Workbook

Sheet Company Comparison
B2: Year | C2: 2022
B3: Quarter | C3: Q2
B5: Tickers | C5: AAPL | D5: TSLA | E5: AMZN | F5: MSFT
B6: Name | C6: {=[1]!_xldudf_WISEPRICE(C5:F5,B6:B8)} -> #NAME?
B7: Price
B8: PE
A9: (millions of $'s) | B9: Market Cap | C9: {=[1]!_xldudf_WISEPRICE(C$5:F$5,$B9)/1000000} -> #NAME?
B10: Revenue Per Share | C10: {=[1]!_xldudf_WISE(C5, $B$10:$B$13, $C$2, $C$3)} -> #NAME? | D10: {=[1]!_xldudf_WISE(D5, $B$10:$B$13, $C$2, $C$3)} -> #NAME? | E10: {=[1]!_xldudf_WISE(E5, $B$10:$B$13, $C$2, $C$3)} -> #NAME? | F10: {=[1]!_xldudf_WISE(F5, $B$10:$B$13, $C$2, $C$3)} -> #NAME?
B11: Revenue Growth
B12: EPS
B13: Dividend Yield
B15: Instructions:
B16: 1. Make sure you download the Wisesheets add-in and sign in with your account
B17: 2. Green cells are to be entered in manually or if left blank will be filled with the average of previous years statements model
B18: 3. If you find #NAME then click on find and select and replace everything before the function with nothing for example: '/Applications/Microsoft Excel.app/Contents/Frameworks/ATP.framework/Resources/en.lproj/FUNCRES.XLAM'!_xldudf_
B19: 4. Contact us at info@wisesheets.io if you have any questions

Sheet Statements Model
B2: Ticker | C2: AAPL | E2: Instructions:
B3: Currency | C3: USD | E3: 1. Make sure you download the Wisesheets add-in and sign in with your account
B4: Current Year | C4: 2025 | E4: 2. Green cells are to be entered in manually or if left blank will be filled with the average of previous years statements model
B5: Price | C5: {=_xldudf_WISEPRICE($C$2,B5:B6)} -> 207.72 | E5: 3. If you find #NAME then click on find and select and replace everything before the function with nothing for example: '/Applications/Microsoft Excel.app/Contents/Frameworks/ATP.framework/Resources/en.lproj/FUNCRES.XLAM'!_xldudf_
B6: Shares Outstanding | C6: 14935800000 | E6: 4. Contact us at info@wisesheets.io if you have any questions
B7: Estimated Tax Rate | C7: 0.35
B9: Income Statement | C9: FY | F9: E
C10: =D10-1 -> 2022 | D10: =E10-1 -> 2023 | E10: =F10-1 -> 2024 | F10: =C4 -> 2025 | G10: =F10+1 -> 2026 | H10: =G10+1 -> 2027 | I10: =H10+1 -> 2028 | J10: =I10+1 -> 2029
B12: Revenue | C12: {=_xldudf_WISE($C$2, B12:B13, $C$10:$E$10)} -> 394328000000 | D12: 383285000000 | E12: 391035000000 | F12: =E12*(1+F13) -> 4.0017218e+11 | G12: =F12*(1+G13) -> 4.0224863e+11 | H12: =G12*(1+H13) -> 4.0878592e+11 | I12: =H12*(1+I13) -> 4.1489146e+11 | J12: =I12*(1+J13) -> 4.5638061e+11
B13: Revenue Growth | C13: 0.0779 | D13: -0.028 | E13: 0.0202 | F13: =AVERAGE(C13:E13) -> 0.023366667 | G13: =AVERAGE(D13:F13) -> 0.0051888889 | H13: =AVERAGE(E13:G13) -> 0.016251852 | I13: =AVERAGE(F13:H13) -> 0.014935802 | J13: 0.1
B15: Cost of Revenue | C15: {=_xldudf_WISE($C$2, B15, $C$10:$E$10)} -> 223546000000 | D15: 214137000000 | E15: 210352000000 | F15: =F12*F16 -> 2.2189933e+11 | G15: =G12*G16 -> 2.2138891e+11 | H15: =H12*H16 -> 2.238545e+11 | I15: =I12*I16 -> 2.285355e+11 | J15: =J12*J16 -> 2.5082959e+11
B16: COGS % of Revenue | C16: =C15/C12 -> 0.56690369 | D16: =D15/D12 -> 0.5586887 | E16: =E15/E12 -> 0.5379365 | F16: =AVERAGE(C16:E16) -> 0.55450963 | G16: =AVERAGE(D16:F16) -> 0.55037828 | H16: =AVERAGE(E16:G16) -> 0.54760814 | I16: =AVERAGE(F16:H16) -> 0.55083202 | J16: =AVERAGE(G16:I16) -> 0.54960615
B17: Gross Profit | C17: {=_xldudf_WISE(C2,B17:B18,C10:E10)} -> 170782000000 | D17: 169148000000 | E17: 180683000000 | F17: =F12-F15 -> 1.7827285e+11 | G17: =G12-G15 -> 1.8085972e+11 | H17: =H12-H15 -> 1.8493142e+11 | I17: =I12-I15 -> 1.8635596e+11 | J17: =J12-J15 -> 2.0555102e+11
B18: Gross Profit Ratio | C18: 0.43309631 | D18: 0.441 | E18: 0.4620635 | F18: =F17/F12 -> 0.44549037 | G18: =G17/G12 -> 0.44962172 | H18: =H17/H12 -> 0.45239186 | I18: =I17/I12 -> 0.44916798 | J18: =J17/J12 -> 0.45039385
B20: Research And Development Expenses | C20: {=_xldudf_WISE($C$2, $B$20:$B$22, C10:E10)} -> 26251000000 | D20: 29915000000 | E20: 31370000000 | F20: =F12*F21 -> 2.9992032e+10 | G20: =G12*G21 -> 3.127078e+10 | H20: =H12*H21 -> 3.1736878e+10 | I20: =I12*I21 -> 3.1853245e+10 | J20: =J12*J21 -> 3.5316516e+10
B21: Research And Development To Revenue | C21: 0.066571484 | D21: 0.078048971 | E21: 0.080222998 | F21: =AVERAGE(C21:E21) -> 0.074947818 | G21: =AVERAGEA(D21:F21) -> 0.077739929 | H21: =AVERAGEA(E21:G21) -> 0.077636915 | I21: =AVERAGEA(F21:H21) -> 0.076774887 | J21: =AVERAGEA(G21:I21) -> 0.07738391
B22: Selling General And Administrative Expenses | C22: 25094000000 | D22: 24932000000 | E22: 26097000000 | F22: =F12*F23 -> 2.606773e+10 | G22: =G12*G23 -> 2.640464e+10 | H22: =H12*H23 -> 2.6914757e+10 | I22: =I12*I23 -> 2.719262e+10 | J22: =J12*J23 -> 2.997277e+10
B23: Sales General And Administrative To Revenue | C23: =C22/C12 -> 0.063637378 | D23: =D22/D12 -> 0.065048202 | E23: =E22/E12 -> 0.066738272 | F23: =AVERAGE(C23:E23) -> 0.065141284 | G23: =AVERAGE(D23:F23) -> 0.065642586 | H23: =AVERAGE(E23:G23) -> 0.065840714 | I23: =AVERAGE(F23:H23) -> 0.065541528 | J23: =AVERAGE(G23:I23) -> 0.065674942
B24: Selling And Marketing Expenses | C24: {=_xldudf_WISE(C2,B24,C10:E10)} -> 0 | D24: 0 | E24: 0 | F24: =F12*F25 -> 0 | G24: =G12*G25 -> 0 | H24: =H12*H25 -> 0 | I24: =I12*I25 -> 0 | J24: =J12*J25 -> 0
B25: Marketing Expense to Revenue | C25: =C24/C12 -> 0 | D25: =D24/D12 -> 0 | E25: =E24/E12 -> 0 | F25: =AVERAGE(C25:E25) -> 0 | G25: =AVERAGE(D25:F25) -> 0 | H25: =AVERAGE(E25:G25) -> 0 | I25: =AVERAGE(F25:H25) -> 0 | J25: =AVERAGE(G25:I25) -> 0
B26: Other Expenses | C26: {=_xldudf_WISE(C2,B26:B27,C10:E10)} -> 228000000 | D26: 382000000 | E26: 0
B27: Operating Expenses | C27: 51573000000 | D27: 54847000000 | E27: 57467000000 | F27: =SUM(F26,F24,F22,F20) -> 5.6059762e+10 | G27: =SUM(G26,G24,G22,G20) -> 5.7675421e+10 | H27: =SUM(H26,H24,H22,H20) -> 5.8651634e+10 | I27: =SUM(I26,I24,I22,I20) -> 5.9045866e+10 | J27: =SUM(J26,J24,J22,J20) -> 6.5289287e+10
B29: Cost And Expenses | C29: {=_xldudf_WISE($C$2, $B$29:$B$32, C10:E10)} -> 275119000000 | D29: 268984000000 | E29: 267819000000 | F29: =F27+F15 -> 2.7795909e+11 | G29: =G27+G15 -> 2.7906433e+11 | H29: =H27+H15 -> 2.8250613e+11 | I29: =I27+I15 -> 2.8758137e+11 | J29: =J27+J15 -> 3.1611887e+11
B30: EBITDA | C30: 130541000000 | D30: 125820000000 | E30: 134661000000 | F30: =F12-F29+F34 -> 1.3388226e+11 | G30: =G12-G29+G34 -> 1.3504825e+11 | H30: =H12-H29+H34 -> 1.3826034e+11 | I30: =I12-I29+I34 -> 1.39475e+11 | J30: =J12-J29+J34 -> 1.5366752e+11
B31: EBITDAratio | C31: 0.33104674 | D31: 0.32826748 | E31: 0.34437071
B32: Interest Expense | C32: 2931000000 | D32: 3933000000 | E32: 0 | F32: =F33*F85 -> 2.0477689e+09 | G32: =G33*G85 -> 1.8705465e+09 | H32: =H33*H85 -> 1.3061051e+09 | I32: =I33*I85 -> 1.7414735e+09 | J32: =J33*J85 -> 1.639375e+09
B33: Interest Expense (% of LT Debt) | C33: =C32/C85 -> 0.026716618 | D33: =D32/D85 -> 0.036912941 | E33: =E32/E85 -> 0 | F33: =AVERAGE(C33:E33) -> 0.021209853 | G33: =AVERAGE(D33:F33) -> 0.019374264 | H33: =AVERAGE(E33:G33) -> 0.013528039 | I33: =AVERAGE(F33:H33) -> 0.018037385 | J33: =AVERAGE(G33:I33) -> 0.016979896
B34: Depreciation And Amortization | C34: {=_xldudf_WISE(C2,B34:B36,C10:E10)} -> 11104000000 | D34: 11519000000 | E34: 11445000000 | F34: =F110 -> 1.1669172e+10 | G34: =G110 -> 1.186395e+10 | H34: =H110 -> 1.1980552e+10 | I34: =I110 -> 1.2164907e+10 | J34: =J110 -> 1.3405787e+10
B35: Operating Income | C35: 119437000000 | D35: 114301000000 | E35: 123216000000 | F35: =F12-F29 -> 1.2221309e+11 | G35: =G12-G29 -> 1.231843e+11 | H35: =H12-H29 -> 1.2627979e+11 | I35: =I12-I29 -> 1.273101e+11 | J35: =J12-J29 -> 1.4026174e+11
B36: Operating Income Ratio | C36: 0.30288744 | D36: 0.29821412 | E36: 0.31510223
B38: Total Other Income Expenses Net | C38: {=_xldudf_WISE($C$2, $B$38:$B$42, C10:E10)} -> -334000000 | D38: -565000000 | E38: 269000000
B39: Income Before Tax | C39: 119103000000 | D39: 113736000000 | E39: 123485000000 | F39: =F35-F38 -> 1.2221309e+11 | G39: =G35-G38 -> 1.231843e+11 | H39: =H35-H38 -> 1.2627979e+11 | I39: =I35-I38 -> 1.273101e+11 | J39: =J35-J38 -> 1.4026174e+11
B40: Income Before Tax Ratio | C40: 0.30204043 | D40: 0.29674002 | E40: 0.31579015
B41: Income Tax Expense | C41: 19300000000 | D41: 16741000000 | E41: 29749000000 | F41: =F39*$C$7 -> 4.2774582e+10 | G41: =G39*$C$7 -> 4.3114506e+10 | H41: =H39*$C$7 -> 4.4197926e+10 | I41: =I39*$C$7 -> 4.4558534e+10 | J41: =J39*$C$7 -> 4.9091608e+10
B42: Net Income | C42: 99803000000 | D42: 96995000000 | E42: 93736000000 | F42: =F39-F41 -> 7.9438509e+10 | G42: =G39-G41 -> 8.0069796e+10 | H42: =H39-H41 -> 8.2081863e+10 | I42: =I39-I41 -> 8.2751563e+10 | J42: =J39-J41 -> 9.1170128e+10
B44: EPS | C44: {=_xldudf_WISE($C$2,$B44,C10:E10)} -> 6.15 | D44: 6.16 | E44: 6.11 | F44: =F42/$C$6 -> 5.3186645 | G44: =G42/$C$6 -> 5.3609312 | H44: =H42/$C$6 -> 5.4956455 | I44: =I42/$C$6 -> 5.5404841 | J44: =J42/$C$6 -> 6.1041343
B47: Balance Sheet | C47: FY | F47: E
C48: =D48-1 -> 2022 | D48: =E48-1 -> 2023 | E48: =F48-1 -> 2024 | F48: =C4 -> 2025 | G48: =F48+1 -> 2026 | H48: =G48+1 -> 2027 | I48: =H48+1 -> 2028 | J48: =I48+1 -> 2029
B50: Assets
B52: Cash And Cash Equivalents | C52: {=_xldudf_WISE($C$2, $B$52:$B$55, C48:E48)} -> 23646000000 | D52: 29965000000 | E52: 29943000000 | F52: =F138 -> 1.1445043e+11 | G52: =G138 -> 1.9444842e+11 | H52: =H138 -> 2.853939e+11 | I52: =I138 -> 3.7731812e+11 | J52: =J138 -> 4.6031319e+11
...

Sheet DCF
B2: Discounted Cash Flow Analysis | E2: {=[1]!_xldudf_WISEPRICE('Statements Model'!C2,"Name")} -> #NAME?
E3: ='Statements Model'!C2 -> AAPL | G3: Yellow cells are to be entered in manually or if left blank will be filled with the average of previous years statements model
B5: Cash Flow Projections | E5: E | K5: DCF Assumptions | O5: WACC Calculation
D6: ='Statements Model'!E10 -> 2024 | E6: ='Statements Model'!F107 -> 2025 | F6: ='Statements Model'!G107 -> 2026 | G6: ='Statements Model'!H107 -> 2027 | H6: ='Statements Model'!I107 -> 2028 | I6: ='Statements Model'!J107 -> 2029
K7: Discount Rate: | M7: =P24 -> #NAME? | O7: #VALUE! | P7: {=_FV(O7,"Yield yesterday",TRUE)} -> 0.04439
B8: EBITDA | E8: ='Statements Model'!F35 -> 1.2221309e+11 | F8: ='Statements Model'!G35 -> 1.231843e+11 | G8: ='Statements Model'!H35 -> 1.2627979e+11 | H8: ='Statements Model'!I35 -> 1.273101e+11 | I8: ='Statements Model'!J35 -> 1.4026174e+11 | O8: #VALUE! | P8: {=_FV(O8,"Yield yesterday",TRUE)} -> 0.04063
K9: Terminal Growth Rate: | M9: 0.02
B10: Free Cash Flow | E10: ='Statements Model'!F143 -> 8.3707426e+10 | F10: ='Statements Model'!G143 -> 2.3095677e+11 | G10: ='Statements Model'!H143 -> 2.2954887e+11 | H10: ='Statements Model'!I143 -> 2.3250505e+11 | I10: ='Statements Model'!J143 -> 2.4480036e+11 | K10: Terminal Value: | M10: =I10*(1+M9)/(M7-M9) -> #NAME? | O10: Rf | P10: =AVERAGE(P7:P8) -> 0.04251
B11: Present Value of FCF | E11: =E10/((1+$M$7)^(E6-$D$6)) -> #NAME? | F11: =F10/((1+$M$7)^(F6-$D$6)) -> #NAME? | G11: =G10/((1+$M$7)^(G6-$D$6)) -> #NAME? | H11: =H10/((1+$M$7)^(H6-$D$6)) -> #NAME? | I11: =I10/((1+$M$7)^(I6-$D$6)) -> #NAME? | O11: Beta | P11: {=[1]!_xldudf_WISEPRICE(E3, "beta")} -> #NAME?
K12: PV of Terminal Value: | M12: =M10/((1+M7)^5) -> #NAME? | O12: Rm | P12: 0.08
K13: Sum of PV of Cash Flows: | M13: =SUM(E11:I11) -> #NAME? | O13: Ke | P13: =P10+P11*(P12-P10) -> #NAME?
K14: Enterprise Value: | M14: =SUM(M12:M13) -> #NAME?
O15: Tax Rate | P15: 0.35
B16: Market Value vs Intrinsic Value | K16: Balance Sheet Adjustments: | O16: Market Cap | P16: {=[1]!_xldudf_WISEPRICE('Statements Model'!C2,DCF!O16)} -> #NAME?
K17: Implied Equity Value: | M17: =M14-M16 -> #NAME? | O17: Cash and Cash Equivalents | P17: {=[1]!_xldudf_WISE($E$3,O17,$D$6)} -> #NAME?
B18: MarketValue | D18: =M20 -> #NAME? | O18: Total Debt | P18: {=[1]!_xldudf_WISE($E$3,O18,$D$6)} -> #NAME?
B19: =IF(M22>0,"Upside","Downside") -> #NAME? | D19: =M22 -> #NAME? | K19: Implied Price per Share: | M19: =M17/'Statements Model'!C6 -> #NAME? | O19: Ve | P19: =P16-P17+P18 -> #NAME?
B20: Intrinsic Value | D20: =M19 -> #NAME? | K20: Current Price: | L20: Price | M20: {=[1]!_xldudf_WISEPRICE('Statements Model'!C2,L20)} -> #NAME?
O21: Vd | P21: =P18 -> #NAME?
K22: =IF(M22>0,"Potential Upside ($)","Potential Downside ($)") -> #NAME? | M22: =M19-M20 -> #NAME? | O22: Kd | P22: 0.02
K23: =IF(M23>0,"Potential Upside (%)","Potential Downside (%)") -> #NAME? | M23: =M22/M20 -> #NAME?
O24: WACC | P24: =(P19/(P19+P21))*P13+(P21/(P19+P21))*P22*(1-P15) -> #NAME?
K26: Instructions:
K27: 1. Make sure you download the Wisesheets add-in and sign in with your account
K28: 2. Green cells are to be entered in manually or if left blank will be filled with the average of previous years statements model
K29: 3. If you find #NAME then click on find and select and replace everything before the function with nothing for example: '/Applications/Microsoft Excel.app/Contents/Frameworks/ATP.framework/Resources/en.lproj/FUNCRES.XLAM'!_xldudf_
K30: 4. Contact us at info@wisesheets.io if you have any questions
