Workbook
Name TICKER: 'YoY Ratios'!#REF!

Sheet NOTES
G1: DON’T CHANGE THE TICKER EVERYWHERE.
A3: THE SCREENER AND THE SECTOR MEDIAN, YOU HAVE TO UPDATE BY YOURSELF. WE RECOMMEND USING THE WISE SCREENER FOR THIS. | G3: CHANGE THE TICKER ONLY CHANGE AT THE CELL 'A1' IN "YoY Ratios SHEET. ALL THE OTHER SHEETS WILL UPDATE AUTOMATICALLY. | M3: ON SHEET "HISTORICAL PRICES" AND CELLS "AK:AY", ALWAYS CHECK THAT IS CORRECT BECAUSE IT'S ON THE SHEET YoY Ratios AS WELL. | S3: ON "YoY RATIOS" SHEET, ALL RATIOS ARE EXPLAINED INSIDE NOTES ON THE CELL. FOR FURTHER EXPLANATIONS, GOOGLE IT :)
D18: GENERALLY ALMOST ALL CELLS CONTAIN FORMULAS SO BECAREFUL BEFORE CHANGE ANYTHING.

Sheet YoY Ratios
A1: AAPL | B1: Month of Fiscal Yr End | D1: =VLOOKUP(A1,'Screener 16.12.2022'!B:AC,MATCH(B1,'Screener 16.12.2022'!B6:AC6,),) -> 9
A2: DATE (End of the Year Calculation) | B2: ='Yearly Financials'!C2 -> TTM | C2: ='Yearly Financials'!D2 -> 2023 | D2: ='Yearly Financials'!E2 -> 2022 | E2: ='Yearly Financials'!F2 -> 2021 | F2: ='Yearly Financials'!G2 -> 2020 | G2: ='Yearly Financials'!H2 -> 2019 | H2: ='Yearly Financials'!I2 -> 2018 | I2: ='Yearly Financials'!J2 -> 2017 | ... N2: ='Yearly Financials'!O2 -> 2012
A3: Price | B3: =T4 -> 166.9 | C3: ='Historical Prices'!$K6 -> 174.52 | D3: ='Historical Prices'!$K7 -> 129.61 | E3: ='Historical Prices'!$K8 -> 71.09 | F3: ='Historical Prices'!$K9 -> 37.62 | G3: ='Historical Prices'!$K10 -> 39.77 | H3: ='Historical Prices'!$K11 -> 26.79 | I3: ='Historical Prices'!$K12 -> 23.81 | J3: ='Historical Prices'!$K13 -> 24.55 | K3: ='Historical Prices'!$K14 -> 17.46 | L3: ='Historical Prices'!$K15 -> 16.16 | M3: ='Historical Prices'!$K16 -> 12.19 | N3: ='Historical Prices'!$K17 -> 9.71 | P3: Company Description | S3: Company Prices Description
A4: Market Cap | B4: =B3*'Yearly Financials'!C24 -> 2588579444700 | C4: =C3*'Yearly Financials'!D24 -> 2747683194120 | D4: =D3*'Yearly Financials'!E24 -> 2.101751e+12 | E4: =E3*'Yearly Financials'!F24 -> 1187293426480 | F4: =F3*'Yearly Financials'!G24 -> 652786716780 | G4: =G3*'Yearly Financials'!H24 -> 734605032720 | H4: =H3*'Yearly Financials'!I24 -> 531018199320 | I4: =I3*'Yearly Financials'!J24 -> 496890128080 | ... N4: =N3*'Yearly Financials'!O24 -> 2.5415832e+11 | P4: Ticker | Q4: ='Yearly Financials'!A2 -> AAPL | S4: Price | T4: {=_xldudf_WISEPRICE($A$1,S4:S6)} -> 166.9
A5: Enterprise Value (EV) | B5: =B4+'Yearly Financials'!C66-'Yearly Financials'!C30 -> 2623519444700 | C5: =C4+'Yearly Financials'!D66-'Yearly Financials'!D30 -> 2797216194120 | D5: =D4+'Yearly Financials'!E66-'Yearly Financials'!E30 -> 2173515964430 | E5: =E4+'Yearly Financials'!F66-'Yearly Financials'!F30 -> 1249373426480 | F5: =F4+'Yearly Financials'!G66-'Yearly Financials'!G30 -> 674279716780 | G5: =G4+'Yearly Financials'!H66-'Yearly Financials'!H30 -> 742095032720 | H5: =H4+'Yearly Financials'!I66-'Yearly Financials'!I30 -> 579200199320 | I5: =I4+'Yearly Financials'!J66-'Yearly Financials'!J30 -> 538389128080 | ... N5: =N4+'Yearly Financials'!O66-'Yearly Financials'!O30 -> 2.2502932e+11 | P5: Company Name | Q5: {=_xldudf_WISEPRICE($A$1,P5:P14)} -> Unavailable | S5: Year High | T5: 199.62
A6: Dividend Yield % | B6: =B65/B3 -> 0.006111444 | C6: =C65/C3 -> 0.0056154022 | D6: =D65/D3 -> 0.0072525268 | E6: =E65/E3 -> 0.012660008 | F6: =F65/F3 -> 0.022594365 | G6: =G65/G3 -> 0.019989942 | H6: =H65/H3 -> 0.027995521 | I6: =I65/I3 -> 0.028559429 | ... N6: =N65/N3 -> 0 | P6: Website | Q6: https://www.apple.com | S6: Year Low | T6: 162.8
A7: Shares Buyback Ratio% | B7: =('Yearly Financials'!D24-'Yearly Financials'!C24)/'Yearly Financials'!D24 -> 0.014892312 | C7: =('Yearly Financials'!E24-'Yearly Financials'!D24)/'Yearly Financials'!E24 -> 0.029090594 | D7: =('Yearly Financials'!F24-'Yearly Financials'!E24)/'Yearly Financials'!F24 -> 0.029058206 | E7: =('Yearly Financials'!G24-'Yearly Financials'!F24)/'Yearly Financials'!G24 -> 0.037508214 | F7: =('Yearly Financials'!H24-'Yearly Financials'!G24)/'Yearly Financials'!H24 -> 0.060592098 | G7: =('Yearly Financials'!I24-'Yearly Financials'!H24)/'Yearly Financials'!I24 -> 0.068116513 | H7: =('Yearly Financials'!J24-'Yearly Financials'!I24)/'Yearly Financials'!J24 -> 0.050192228 | I7: =('Yearly Financials'!K24-'Yearly Financials'!J24)/'Yearly Financials'!K24 -> 0.046351004 | ... M7: =('Yearly Financials'!O24-'Yearly Financials'!N24)/'Yearly Financials'!O24 -> 0.010148499 | P7: CEO | Q7: Mr. Timothy D. Cook | S7: YTD Change % | T7: =(T4-'Historical Prices'!C247)/'Historical Prices'!C247 -> -0.27210083
A8: EPS | B8: ='Yearly Financials'!C21/'Yearly Financials'!C24 -> 6.5064179 | C8: ='Yearly Financials'!D21/'Yearly Financials'!D24 -> 6.1606693 | D8: ='Yearly Financials'!E21/'Yearly Financials'!E24 -> 6.1546144 | E8: ='Yearly Financials'!F21/'Yearly Financials'!F24 -> 5.6690293 | F8: ='Yearly Financials'!G21/'Yearly Financials'!G24 -> 3.3085873 | G8: ='Yearly Financials'!H21/'Yearly Financials'!H24 -> 2.9914458 | H8: ='Yearly Financials'!I21/'Yearly Financials'!I24 -> 3.0033537 | I8: ='Yearly Financials'!J21/'Yearly Financials'!J24 -> 2.3168851 | ... N8: ='Yearly Financials'!O21/'Yearly Financials'!O24 -> 1.5943898 | P8: Country | Q8: US | S8: BETA | T8: {=[1]!_xldudf_WISEPRICE($A$1,S8)} -> 1.27241
A9: Revenue per Share (RPS) | B9: =B10/'Yearly Financials'!C24 -> 24.868594 | C9: =C10/'Yearly Financials'!D24 -> 24.344473 | D9: =D10/'Yearly Financials'!E24 -> 24.317273 | E9: =E10/'Yearly Financials'!F24 -> 21.903541 | F9: =F10/'Yearly Financials'!G24 -> 15.820258 | G9: =G10/'Yearly Financials'!H24 -> 14.085283 | H9: =H10/'Yearly Financials'!I24 -> 13.399334 | I9: =I10/'Yearly Financials'!J24 -> 10.984444 | ... N9: =N10/'Yearly Financials'!O24 -> 5.9793151 | P9: Currency | Q9: USD | S9: Dividend Yield | T9: =$B$6 -> 0.006111444
A10: Revenue | B10: ='Yearly Financials'!C4 -> 385706000000 | C10: ='Yearly Financials'!D4 -> 383285000000 | D10: ='Yearly Financials'!E4 -> 394328000000 | E10: ='Yearly Financials'!F4 -> 365817000000 | F10: ='Yearly Financials'!G4 -> 274515000000 | G10: ='Yearly Financials'!H4 -> 260174000000 | H10: ='Yearly Financials'!I4 -> 265595000000 | I10: ='Yearly Financials'!J4 -> 229234000000 | ... N10: ='Yearly Financials'!O4 -> 156508000000 | P10: Exchange Short Name | Q10: NASDAQ | S10: Market Cap | T10: =$B$4 -> 2588579444700
A11: Gross Profit | B11: ='Yearly Financials'!C6 -> 173671000000 | C11: ='Yearly Financials'!D6 -> 169148000000 | D11: ='Yearly Financials'!E6 -> 170782000000 | E11: ='Yearly Financials'!F6 -> 152836000000 | F11: ='Yearly Financials'!G6 -> 104956000000 | G11: ='Yearly Financials'!H6 -> 98392000000 | H11: ='Yearly Financials'!I6 -> 101839000000 | I11: ='Yearly Financials'!J6 -> 88186000000 | ... N11: ='Yearly Financials'!O6 -> 68662000000 | P11: Sector | Q11: Technology | S11: EV | T11: =$B$5 -> 2623519444700
A12: Revenue Growth% | B12: =(B10/C10)-1 -> 0.0063164486 | C12: =(C10/D10)-1 -> -0.028004605 | D12: =(D10/E10)-1 -> 0.077937876 | E12: =(E10/F10)-1 -> 0.33259385 | F12: =(F10/G10)-1 -> 0.055120804 | G12: =(G10/H10)-1 -> -0.020410776 | H12: =(H10/I10)-1 -> 0.15861958 | I12: =(I10/J10)-1 -> 0.063045182 | ... M12: =(M10/N10)-1 -> 0.092020855 | P12: Industry | Q12: Consumer Electronics
A13: EPS Basic Growth% | B13: =(B8/C8)-1 -> 0.056121932 | C13: =(C8/D8)-1 -> 0.00098378639 | D13: =(D8/E8)-1 -> 0.085655786 | E13: =(E8/F8)-1 -> 0.71342897 | F13: =(F8/G8)-1 -> 0.10601613 | G13: =(G8/H8)-1 -> -0.0039648868 | H13: =(H8/I8)-1 -> 0.29628949 | I13: =(I8/J8)-1 -> 0.10974772 | ... M13: =(M8/N8)-1 -> -0.10342598 | P13: Full Time Employees | Q13: 161000
A14: EBITDA Growth% | B14: =(B42/C42)-1 -> 0.03408838 | C14: =(C42/D42)-1 -> -0.036164883 | D14: =(D42/E42)-1 -> 0.085733534 | E14: =(E42/F42)-1 -> 0.55452265 | F14: =(F42/G42)-1 -> 0.011336742 | G14: =(G42/H42)-1 -> -0.065084779 | H14: =(H42/I42)-1 -> 0.14405393 | I14: =(I42/J42)-1 -> 0.013781565 | ... M14: =(M42/N42)-1 -> -0.047199152 | P14: Description | Q14: Apple Inc. designs, manufactures, and markets smartphones, personal computers, tablets, wearables, and accessories worldwide. The company offers iPhone, a line of smartphones; Mac, a line of personal computers; iPad, a line of multi-purpose tablets; and wearables, home, and accessories comprising AirPods, Apple TV, Apple Watch, Beats products, and HomePod. It also provides AppleCare support and cloud services; and operates various platforms, including the App Store that allow customers to discover and download applications and digital content, such as books, music, video, games, and podcasts. In addition, the company offers various services, such as Apple Arcade, a game subscription service; Apple Fitness+, a personalized fitness service; Apple Music, which offers users a curated listening experience with on-demand radio stations; Apple News+, a subscription news and magazine service; Apple TV+, which offers exclusive original content; Apple Card, a co-branded credit card; and Apple Pay, a cashless payment service, as well as licenses its intellectual property. The company serves consumers, and small and mid-sized businesses; and the education, enterprise, and government markets. It distributes third-party applications for its products through the App Store. The company also sells its products through its retail and online stores, and direct sales force; and third-party cellular network carriers, wholesalers, retailers, and resellers. Apple Inc. was incorporated in 1977 and is headquartered in Cupertino, California.
A15: Price per Share Ratio (PE) | B15: =B3/B8 -> 25.651595 | C15: =C3/C8 -> 28.328091 | D15: =D3/D8 -> 21.058996 | E15: =E3/E8 -> 12.540066 | F15: =F3/F8 -> 11.370412 | G15: =G3/G8 -> 13.294575 | H15: =H3/H8 -> 8.9200282 | I15: =I3/I8 -> 10.276729 | ... N15: =N3/N8 -> 6.0901042 | P15: Next Earnings Announcement | Q15: =VLOOKUP($A$1,'Screener 16.12.2022'!B:T,MATCH($P$15,'Screener 16.12.2022'!B5:T5)) -> 20230126
A16: Price per Earnings Growth per Share (PEG) | B16: =B15/B13/100 -> 4.57069 | C16: =C15/C13/100 -> 287.94961 | D16: =D15/D13/100 -> 2.4585608 | E16: =E15/E13/100 -> 0.17577175 | F16: =F15/F13/100 -> 1.0725172 | G16: =G15/G13/100 -> -33.53078 | H16: =H15/H13/100 -> 0.30105787 | I16: =I15/I13/100 -> 0.93639564 | ... M16: =M15/M13/100 -> -0.82450521
A17: Price per Revenue Per share (PPRPS) | B17: =B3/B9 -> 6.7112761 | C17: =C3/C9 -> 7.1687731 | D17: =D3/D9 -> 5.3299562 | E17: =E3/E9 -> 3.2455939 | F17: =F3/F9 -> 2.3779637 | G17: =G3/G9 -> 2.8235144 | H17: =H3/H9 -> 1.9993531 | I17: =I3/I9 -> 2.1676109 | ... N17: =N3/N9 -> 1.6239318 | P17: PRICE CHART WITH SMA's | T17: VOLUME
A18: Price per EBITDA Growth per Share | B18: =B15/B14/100 -> 7.5250262 | C18: =C15/C14/100 -> -7.8330382 | D18: =D15/D14/100 -> 2.4563312 | E18: =E15/E14/100 -> 0.22614163 | F18: =F15/F14/100 -> 10.0297 | G18: =G15/G14/100 -> -2.042655 | H18: =H15/H14/100 -> 0.6192145 | I18: =I15/I14/100 -> 7.4568665 | ... M18: =M15/M14/100 -> -1.8067117
A19: Price per Book Value per Share | B19: =B3/B21 -> 34.933596 | C19: =C3/C21 -> 44.213356 | D19: =D3/D21 -> 41.477561 | E19: =E3/E21 -> 18.819043 | F19: =F3/F21 -> 9.9907669 | G19: =G3/G21 -> 8.1182591 | H19: =H3/H21 -> 4.9559782 | I19: =I3/I21 -> 3.7068351 | ... N19: =N3/N21 -> 2.1500577
A20: Price per Free Cash Flow per Share | B20: =B3/B61 -> 24.221986 | C20: =C3/C61 -> 27.591613 | D20: =D3/D61 -> 18.859426 | E20: =E3/E61 -> 12.773051 | F20: =F3/F61 -> 8.8977948 | G20: =G3/G61 -> 12.472919 | H20: =H3/H61 -> 8.2815021 | I20: =I3/I61 -> 9.7807241 | ... N20: =N3/N61 -> 6.1310927
A21: Book Value Per Share | B21: =('Yearly Financials'!C63-'Yearly Financials'!C59)/'Yearly Financials'!C24 -> 4.7776359 | C21: =('Yearly Financials'!D63-'Yearly Financials'!D59)/'Yearly Financials'!D24 -> 3.9472236 | D21: =('Yearly Financials'!E63-'Yearly Financials'!E59)/'Yearly Financials'!E24 -> 3.1248221 | E21: =('Yearly Financials'!F63-'Yearly Financials'!F59)/'Yearly Financials'!F24 -> 3.7775566 | F21: =('Yearly Financials'!G63-'Yearly Financials'!G59)/'Yearly Financials'!G24 -> 3.7654767 | G21: =('Yearly Financials'!H63-'Yearly Financials'!H59)/'Yearly Financials'!H24 -> 4.8988335 | H21: =('Yearly Financials'!I63-'Yearly Financials'!I59)/'Yearly Financials'!I24 -> 5.4055928 | I21: =('Yearly Financials'!J63-'Yearly Financials'!J59)/'Yearly Financials'!J24 -> 6.4232692 | ... N21: =('Yearly Financials'!O63-'Yearly Financials'!O59)/'Yearly Financials'!O24 -> 4.5161579
A22: Price to Operating Cash Flow per Share | B22: =B3/B63 -> 22.232352 | C22: =C3/C63 -> 24.856239 | D22: =D3/D63 -> 17.206171 | E22: =E3/E63 -> 11.412113 | F22: =F3/F63 -> 8.0916617 | G22: =G3/G63 -> 10.58646 | H22: =H3/H63 -> 6.8576878 | I22: =I3/I63 -> 7.8129836 | ... N22: =N3/N63 -> 4.9976073
A23: Market Cap/Revenue Multiples (PS ratio) | B23: =B4/B10 -> 6.7112761 | C23: =C4/C10 -> 7.1687731 | D23: =D4/D10 -> 5.3299562 | E23: =E4/E10 -> 3.2455939 | F23: =F4/F10 -> 2.3779637 | G23: =G4/G10 -> 2.8235144 | H23: =H4/H10 -> 1.9993531 | I23: =I4/I10 -> 2.1676109 | ... N23: =N4/N10 -> 1.6239318
A24: EV/Revenue Multiples | B24: =B5/B10 -> 6.8018632 | C24: =C5/C10 -> 7.2980059 | D24: =D5/D10 -> 5.5119494 | E24: =E5/E10 -> 3.4152962 | F24: =F5/F10 -> 2.4562582 | G24: =G5/G10 -> 2.8523028 | H24: =H5/H10 -> 2.1807647 | I24: =I5/I10 -> 2.3486443 | ... N24: =N5/N10 -> 1.4378135
A25: EV/EBIT | B25: =B5/B41 -> 22.109925 | C25: =C5/C41 -> 24.472369 | D25: =D5/D41 -> 18.198012 | E25: =E5/E41 -> 11.467507 | F25: =F5/F41 -> 10.171973 | G25: =G5/G41 -> 11.607931 | H25: =H5/H41 -> 8.1694857 | I25: =I5/I41 -> 8.7765573 | ... N25: =N5/N41 -> 4.0735924
A26: EV/EBITDA | B26: =B5/B42 -> 20.164012 | C26: =C5/C42 -> 22.231888 | D26: =D5/D42 -> 16.650064 | E26: =E5/E42 -> 10.391269 | F26: =F5/F42 -> 8.7179318 | G26: =G5/G42 -> 9.7035061 | H26: =H5/H42 -> 7.0806005 | I26: =I5/I42 -> 7.5298126 | ... N26: =N5/N42 -> 3.8454718
A27: Gross Margin % | B27: =B11/B10 -> 0.45026782 | C27: =C11/C10 -> 0.4413113 | D27: =D11/D10 -> 0.43309631 | E27: =E11/E10 -> 0.4177936 | F27: =F11/F10 -> 0.38233248 | G27: =G11/G10 -> 0.37817768 | H27: =H11/H10 -> 0.38343719 | I27: =I11/I10 -> 0.3846986 | ... N27: =N11/N10 -> 0.4387124
A28: Net Margin % | B28: ='Yearly Financials'!C21/B10 -> 0.26163192 | C28: ='Yearly Financials'!D21/C10 -> 0.25306234 | D28: ='Yearly Financials'!E21/D10 -> 0.25309641 | E28: ='Yearly Financials'!F21/E10 -> 0.25881793 | F28: ='Yearly Financials'!G21/F10 -> 0.20913611 | G28: ='Yearly Financials'!H21/G10 -> 0.21238095 | H28: ='Yearly Financials'!I21/H10 -> 0.22414202 | I28: ='Yearly Financials'!J21/I10 -> 0.21092421 | ... N28: ='Yearly Financials'!O21/N10 -> 0.26665091
A29: FCF Margin % | B29: ='Yearly Financials'!C99/B10 -> 0.27707373 | C29: ='Yearly Financials'!D99/C10 -> 0.25981711 | D29: ='Yearly Financials'!E99/D10 -> 0.28261498 | E29: ='Yearly Financials'!F99/E10 -> 0.25409699 | F29: ='Yearly Financials'!G99/F10 -> 0.26725316 | G29: ='Yearly Financials'!H99/G10 -> 0.22637158 | H29: ='Yearly Financials'!I99/H10 -> 0.24142397 | I29: ='Yearly Financials'!J99/I10 -> 0.2216207 | ... N29: ='Yearly Financials'!O99/N10 -> 0.26486825
A30: Pretax profit/EBT Margin% | B30: =B40/B10 -> 0.300042 | C30: =C40/C10 -> 0.28795283 | D30: =D40/D10 -> 0.29545455 | E30: =E40/E10 -> 0.29059338 | F30: =F40/F10 -> 0.23100741 | G30: =G40/G10 -> 0.23197552 | H30: =H40/H10 -> 0.25474124 | I30: =I40/I10 -> 0.25747053 | ... N30: =N40/N10 -> 0.35629489
A31: Operating/EBIT Margin % | B31: =B41/B10 -> 0.30763846 | C31: =C41/C10 -> 0.29821412 | D31: =D41/D10 -> 0.30288744 | E31: =E41/E10 -> 0.29782378 | F31: =F41/F10 -> 0.24147314 | G31: =G41/G10 -> 0.24572017 | H31: =H41/H10 -> 0.26694027 | I31: =I41/I10 -> 0.26760428 | ... N31: =N41/N10 -> 0.35295959
A32: EBITDA Margin% | B32: =B42/B10 -> 0.33732688 | C32: =C42/C10 -> 0.32826748 | D32: =D42/D10 -> 0.33104674 | E32: =E42/E10 -> 0.3286698 | F32: =F42/F10 -> 0.28174781 | G32: =G42/G10 -> 0.29394559 | H32: =H42/H10 -> 0.30799149 | I32: =I42/I10 -> 0.31191272 | ... N32: =N42/N10 -> 0.37389782
A33: Sales to Assets Ratio | B33: =B10/'Yearly Financials'!C44 -> 1.0910629 | C33: =C10/'Yearly Financials'!D44 -> 1.0870774 | D33: =D10/'Yearly Financials'!E44 -> 1.1178523 | E33: =E10/'Yearly Financials'!F44 -> 1.0422077 | F33: =F10/'Yearly Financials'!G44 -> 0.8475615 | G33: =G10/'Yearly Financials'!H44 -> 0.76857224 | H33: =H10/'Yearly Financials'!I44 -> 0.72621505 | I33: =I10/'Yearly Financials'!J44 -> 0.6107711 | ... N33: =N10/'Yearly Financials'!O44 -> 0.88892675
A34: Return on Assets (ROA) % | B34: ='Yearly Financials'!C21/'Yearly Financials'!C44 -> 0.28545687 | C34: ='Yearly Financials'!D21/'Yearly Financials'!D44 -> 0.27509835 | D34: ='Yearly Financials'!E21/'Yearly Financials'!E44 -> 0.28292441 | E34: ='Yearly Financials'!F21/'Yearly Financials'!F44 -> 0.26974205 | F34: ='Yearly Financials'!G21/'Yearly Financials'!G44 -> 0.17725572 | G34: ='Yearly Financials'!H21/'Yearly Financials'!H44 -> 0.1632301 | H34: ='Yearly Financials'!I21/'Yearly Financials'!I44 -> 0.16277531 | I34: ='Yearly Financials'!J21/'Yearly Financials'!J44 -> 0.12882641 | ... N34: ='Yearly Financials'!O21/'Yearly Financials'!O44 -> 0.23703312
A35: Return on Equity (ROE) % | B35: ='Yearly Financials'!C21/'Yearly Financials'!C63 -> 1.3618489 | C35: ='Yearly Financials'!D21/'Yearly Financials'!D63 -> 1.5607601 | D35: ='Yearly Financials'!E21/'Yearly Financials'!E63 -> 1.9695887 | E35: ='Yearly Financials'!F21/'Yearly Financials'!F63 -> 1.5007133 | F35: ='Yearly Financials'!G21/'Yearly Financials'!G63 -> 0.87866359 | G35: ='Yearly Financials'!H21/'Yearly Financials'!H63 -> 0.61064451 | H35: ='Yearly Financials'!I21/'Yearly Financials'!I63 -> 0.55560118 | I35: ='Yearly Financials'!J21/'Yearly Financials'!J63 -> 0.36070184 | ... N35: ='Yearly Financials'!O21/'Yearly Financials'!O63 -> 0.3530412
A36: Return on Capital Employed (ROCE)% | B36: =B41/B83 -> 0.54048219 | C36: =C41/C83 -> 0.55144615 | D36: =D41/D83 -> 0.60087135 | E36: =E41/E83 -> 0.48309913 | F36: =F41/F83 -> 0.30338313 | G36: =G41/G83 -> 0.27461576 | H36: =H41/H83 -> 0.28489225 | I36: =I41/I83 -> 0.22347134 | ... N36: =N41/N83 -> 0.40168846
A37: WACC % | B37: =B87*B92+B88*B93*(1-B60) -> 0.10952477 | C37: =C87*C92+C88*C93*(1-C60) -> 0.082734142 | D37: =D87*D92+D88*D93*(1-D60) -> 0.075818308 | E37: =E87*E92+E88*E93*(1-E60) -> 0.082758096 | F37: =F87*F92+F88*F93*(1-F60) -> 0.086004951 | G37: =G87*G92+G88*G93*(1-G60) -> 0.085041917 | H37: =H87*H92+H88*H93*(1-H60) -> 0.081609326 | I37: =I87*I92+I88*I93*(1-I60) -> 0.079759139 | ... N37: =N87*N92+N88*N93*(1-N60) -> 0
A38: Return on Invested Capital(ROIC) % | B38: =B96/('Yearly Financials'!C66+'Yearly Financials'!C63) -> 0.55282394 | C38: =C96/('Yearly Financials'!D66+'Yearly Financials'!D63) -> 0.55972516 | D38: =D96/('Yearly Financials'!E66+'Yearly Financials'!E63) -> 0.58364107 | E38: =E96/('Yearly Financials'!F66+'Yearly Financials'!F63) -> 0.50083088 | F38: =F96/('Yearly Financials'!G66+'Yearly Financials'!G63) -> 0.31595809 | G38: =G96/('Yearly Financials'!H66+'Yearly Financials'!H63) -> 0.26608908 | H38: =H96/('Yearly Financials'!I66+'Yearly Financials'!I63) -> 0.25666942 | I38: =I96/('Yearly Financials'!J66+'Yearly Financials'!J63) -> 0.180143 | ... N38: =N96/('Yearly Financials'!O66+'Yearly Financials'!O63) -> 0.34973636
A39: Return on Invested Capital(ROIC) % | B39: =B96/((C97+B97)/2) -> 0.34879739 | C39: =C96/((D97+C97)/2) -> 0.32378831 | D39: =D96/((E97+D97)/2) -> 0.33546976 | E39: =E96/((F97+E97)/2) -> 0.35484169 | F39: =F96/((G97+F97)/2) -> 0.23479758 | G39: =G96/((H97+G97)/2) -> 0.1991469 | H39: =H96/((I97+H97)/2) -> 0.19159769 | I39: =I96/((J97+I97)/2) -> 0.16212311 | ... M39: =M96/((N97+M97)/2) -> 0.24653772 | N39: =N96/((O95+N97)/2) -> 0.60896957
A40: EBT | B40: =B41-'Yearly Financials'!C15 -> 115728000000 | C40: =C41-'Yearly Financials'!D15 -> 110368000000 | D40: =D41-'Yearly Financials'!E15 -> 116506000000 | E40: =E41-'Yearly Financials'!F15 -> 106304000000 | F40: =F41-'Yearly Financials'!G15 -> 63415000000 | G40: =G41-'Yearly Financials'!H15 -> 60354000000 | H40: =H41-'Yearly Financials'!I15 -> 67658000000 | I40: =I41-'Yearly Financials'!J15 -> 59021000000 | ... N40: =N41-'Yearly Financials'!O15 -> 55763000000
...

Sheet QoQ Ratios
A1: ='YoY Ratios'!$A$1 -> AAPL | B1: Month of Fiscal Yr End | D1: =VLOOKUP(A1,'Screener 16.12.2022'!B:AC,MATCH(B1,'Screener 16.12.2022'!B6:AC6,),) -> 9
A2: DATE (End of the Year Calculation) | B2: ='Quarterly Financials'!C2 -> LQ | C2: ='Quarterly Financials'!D2 -> LQ-1 | D2: ='Quarterly Financials'!E2 -> LQ-2 | E2: ='Quarterly Financials'!F2 -> LQ-3 | F2: ='Quarterly Financials'!G2 -> LQ-4 | G2: ='Quarterly Financials'!H2 -> LQ-5 | H2: ='Quarterly Financials'!I2 -> LQ-6 | I2: ='Quarterly Financials'!J2 -> LQ-7 | ... L2: ='Quarterly Financials'!M2 -> LQ-10
A3: Price | B3: =R4 -> 166.9 | C3: ='Historical Prices'!$M5 -> 136.39 | D3: ='Historical Prices'!$M6 -> 134.74 | E3: ='Historical Prices'!$M7 -> 171.83 | F3: ='Historical Prices'!$M8 -> 174.52 | G3: ='Historical Prices'!$M9 -> 138.86 | H3: ='Historical Prices'!$M10 -> 134.21 | I3: ='Historical Prices'!$M11 -> 119.49 | J3: ='Historical Prices'!$M12 -> 129.61 | K3: ='Historical Prices'!$M13 -> 112.93 | L3: ='Historical Prices'!$M14 -> 88.77 | N3: Company Description | Q3: Company Prices Description
A4: Market Cap | B4: =B3*'Quarterly Financials'!C24 -> 2588579444700 | C4: =C3*'Quarterly Financials'!D24 -> 2.1276068e+12 | D4: =D3*'Quarterly Financials'!E24 -> 2.1150965e+12 | E4: =E3*'Quarterly Financials'!F24 -> 2712706671820 | F4: =F3*'Quarterly Financials'!G24 -> 2773598017960 | G4: =G3*'Quarterly Financials'!H24 -> 2225978844520 | H4: =H3*'Quarterly Financials'!I24 -> 2.1692288e+12 | I4: =I3*'Quarterly Financials'!J24 -> 1945154050980 | ... L4: =L3*'Quarterly Financials'!M24 -> 1476189263670 | N4: Ticker | O4: ='YoY Ratios'!$A$1 -> AAPL | Q4: Price | R4: {=_xldudf_WISEPRICE($A$1,Q4:Q6)} -> 166.9
A5: Enterprise Value (EV) | B5: =B4+'Quarterly Financials'!C66-'Quarterly Financials'!C30 -> 2623519444700 | C5: =C4+'Quarterly Financials'!D66-'Quarterly Financials'!D30 -> 2177139803260 | D5: =D4+'Quarterly Financials'!E66-'Quarterly Financials'!E30 -> 2161894510360 | E5: =E4+'Quarterly Financials'!F66-'Quarterly Financials'!F30 -> 2766449671820 | F5: =F4+'Quarterly Financials'!G66-'Quarterly Financials'!G30 -> 2833353017960 | G5: =G4+'Quarterly Financials'!H66-'Quarterly Financials'!H30 -> 2297743844520 | H5: =H4+'Quarterly Financials'!I66-'Quarterly Financials'!I30 -> 2240688848450 | I5: =I4+'Quarterly Financials'!J66-'Quarterly Financials'!J30 -> 2013624050980 | ... L5: =L4+'Quarterly Financials'!M66-'Quarterly Financials'!M30 -> 1536284263670 | N5: Company Name | O5: {=_xldudf_WISEPRICE($A$1,N5:N14)} -> Unavailable | Q5: Year High | R5: 199.62
A6: Dividend Yield % | B6: =B65/B3 -> 0.006111444 | C6: =C65/C3 -> 0.0071852775 | D6: =D65/D3 -> 0.006976399 | E6: =E65/E3 -> 0.005237735 | F6: =F65/F3 -> 0.0048705019 | G6: =G65/G3 -> 0.0057251908 | H6: =H65/H3 -> 0.0055882572 | I6: =I65/I3 -> 0.0056908528 | ... K6: =K65/K3 -> 0.0048259984 | N6: Website | O6: https://www.apple.com | Q6: Year Low | R6: 162.8
A7: Shares Buyback Ratio% | B7: =('Quarterly Financials'!D24-'Quarterly Financials'!C24)/'Quarterly Financials'!D24 -> 0.0057483496 | C7: =('Quarterly Financials'!E24-'Quarterly Financials'!D24)/'Quarterly Financials'!E24 -> 0.0062544537 | D7: =('Quarterly Financials'!F24-'Quarterly Financials'!E24)/'Quarterly Financials'!F24 -> 0.0056716999 | E7: =('Quarterly Financials'!G24-'Quarterly Financials'!F24)/'Quarterly Financials'!G24 -> 0.0066425999 | F7: =('Quarterly Financials'!H24-'Quarterly Financials'!G24)/'Quarterly Financials'!H24 -> 0.0085873811 | G7: =('Quarterly Financials'!I24-'Quarterly Financials'!H24)/'Quarterly Financials'!I24 -> 0.0082016613 | H7: =('Quarterly Financials'!J24-'Quarterly Financials'!I24)/'Quarterly Financials'!J24 -> 0.0071170471 | I7: =('Quarterly Financials'!K24-'Quarterly Financials'!J24)/'Quarterly Financials'!K24 -> 0.0068889642 | ... K7: =('Quarterly Financials'!M24-'Quarterly Financials'!L24)/'Quarterly Financials'!M24 -> 0.0085541419 | N7: CEO | O7: Mr. Timothy D. Cook | Q7: YTD Change % | R7: =(R4-'Historical Prices'!C245)/'Historical Prices'!C245 -> -0.24914522
A8: Earnings per Share (EPS Basic) | B8: ='Quarterly Financials'!C21/'Quarterly Financials'!C24 -> 2.1867517 | C8: ='Quarterly Financials'!D21/'Quarterly Financials'!D24 -> 1.4715919 | D8: ='Quarterly Financials'!E21/'Quarterly Financials'!E24 -> 1.2664982 | E8: ='Quarterly Financials'!F21/'Quarterly Financials'!F24 -> 1.5303582 | F8: ='Quarterly Financials'!G21/'Quarterly Financials'!G24 -> 1.8875305 | G8: ='Quarterly Financials'!H21/'Quarterly Financials'!H24 -> 1.292608 | H8: ='Quarterly Financials'!I21/'Quarterly Financials'!I24 -> 1.2028748 | I8: ='Quarterly Financials'!J21/'Quarterly Financials'!J24 -> 1.5363538 | ... L8: ='Quarterly Financials'!M21/'Quarterly Financials'!M24 -> 1.307566 | N8: Country | O8: US | Q8: BETA | R8: {=_xldudf_WISEPRICE($A$1,Q8)} -> 1.276
A9: Revenue per Share (RPS) | B9: =B10/'Quarterly Financials'!C24 -> 7.70966 | C9: =C10/'Quarterly Financials'!D24 -> 5.7372594 | D9: =D10/'Quarterly Financials'!E24 -> 5.2107919 | E9: =E10/'Quarterly Financials'!F24 -> 6.0071625 | F9: =F10/'Quarterly Financials'!G24 -> 7.3715499 | G9: =G10/'Quarterly Financials'!H24 -> 5.6234468 | H9: =H10/'Quarterly Financials'!I24 -> 5.1326661 | I9: =I10/'Quarterly Financials'!J24 -> 5.9757469 | ... L9: =L10/'Quarterly Financials'!M24 -> 4.8969982 | N9: Currency | O9: USD | Q9: Dividend Yield | R9: =$B$6 -> 0.006111444
A10: Revenue | B10: ='Quarterly Financials'!C4 -> 119575000000 | C10: ='Quarterly Financials'!D4 -> 89498000000 | D10: ='Quarterly Financials'!E4 -> 81797000000 | E10: ='Quarterly Financials'!F4 -> 94836000000 | F10: ='Quarterly Financials'!G4 -> 117154000000 | G10: ='Quarterly Financials'!H4 -> 90146000000 | H10: ='Quarterly Financials'!I4 -> 82959000000 | I10: ='Quarterly Financials'!J4 -> 97278000000 | ... L10: ='Quarterly Financials'!M4 -> 81434000000 | N10: Exchange Short Name | O10: NASDAQ | Q10: Market Cap | R10: =$B$4 -> 2588579444700
A11: Gross Profit | B11: ='Quarterly Financials'!C6 -> 54855000000 | C11: ='Quarterly Financials'!D6 -> 40427000000 | D11: ='Quarterly Financials'!E6 -> 36413000000 | E11: ='Quarterly Financials'!F6 -> 41976000000 | F11: ='Quarterly Financials'!G6 -> 50332000000 | G11: ='Quarterly Financials'!H6 -> 38095000000 | H11: ='Quarterly Financials'!I6 -> 35885000000 | I11: ='Quarterly Financials'!J6 -> 42559000000 | ... L11: ='Quarterly Financials'!M6 -> 35255000000 | N11: Sector | O11: Technology | Q11: EV | R11: =$B$5 -> 2623519444700
A12: Revenue Growth% | B12: =(B10/C10)-1 -> 0.33606338 | C12: =(C10/D10)-1 -> 0.094147707 | D12: =(D10/E10)-1 -> -0.13748998 | E12: =(E10/F10)-1 -> -0.19050139 | F12: =(F10/G10)-1 -> 0.29960287 | G12: =(G10/H10)-1 -> 0.086633156 | H12: =(H10/I10)-1 -> -0.14719669 | I12: =(I10/J10)-1 -> -0.21515188 | ... K12: =(K10/L10)-1 -> 0.023651055 | N12: Industry | O12: Consumer Electronics
A13: EPS Basic Growth% | B13: =(B8/C8)-1 -> 0.48597701 | C13: =(C8/D8)-1 -> 0.16193757 | D13: =(D8/E8)-1 -> -0.17241713 | E13: =(E8/F8)-1 -> -0.18922734 | F13: =(F8/G8)-1 -> 0.46024977 | G13: =(G8/H8)-1 -> 0.074598909 | H13: =(H8/I8)-1 -> -0.21705872 | I13: =(I8/J8)-1 -> -0.27278406 | ... K13: =(K8/L8)-1 -> -0.046711142 | N13: Full Time Employees | O13: 161000
A14: EBITDA Growth% | B14: =(B42/C42)-1 -> 0.45908446 | C14: =(C42/D42)-1 -> 0.13712092 | D14: =(D42/E42)-1 -> -0.16549206 | E14: =(E42/F42)-1 -> -0.19819172 | F14: =(F42/G42)-1 -> 0.40250009 | G14: =(G42/H42)-1 -> 0.072562884 | H14: =(H42/I42)-1 -> -0.20891918 | I14: =(I42/J42)-1 -> -0.25956773 | ... K14: =(K42/L42)-1 -> -0.0067883374 | N14: Description | O14: Apple Inc. designs, manufactures, and markets smartphones, personal computers, tablets, wearables, and accessories worldwide. The company offers iPhone, a line of smartphones; Mac, a line of personal computers; iPad, a line of multi-purpose tablets; and wearables, home, and accessories comprising AirPods, Apple TV, Apple Watch, Beats products, and HomePod. It also provides AppleCare support and cloud services; and operates various platforms, including the App Store that allow customers to discover and download applications and digital content, such as books, music, video, games, and podcasts. In addition, the company offers various services, such as Apple Arcade, a game subscription service; Apple Fitness+, a personalized fitness service; Apple Music, which offers users a curated listening experience with on-demand radio stations; Apple News+, a subscription news and magazine service; Apple TV+, which offers exclusive original content; Apple Card, a co-branded credit card; and Apple Pay, a cashless payment service, as well as licenses its intellectual property. The company serves consumers, and small and mid-sized businesses; and the education, enterprise, and government markets. It distributes third-party applications for its products through the App Store. The company also sells its products through its retail and online stores, and direct sales force; and third-party cellular network carriers, wholesalers, retailers, and resellers. Apple Inc. was incorporated in 1977 and is headquartered in Cupertino, California.
A15: Price per Share Ratio (PE) | B15: =B3/B8 -> 76.323253 | C15: =C3/C8 -> 92.681948 | D15: =D3/D8 -> 106.38783 | E15: =E3/E8 -> 112.28091 | F15: =F3/F8 -> 92.459431 | G15: =G3/G8 -> 107.42623 | H15: =H3/H8 -> 111.57437 | I15: =I3/I8 -> 77.775052 | ... L15: =L3/L8 -> 67.889499 | N15: Next Earnings Announcement | O15: =VLOOKUP($A$1,'Screener 16.12.2022'!B:T,MATCH($N$15,'Screener 16.12.2022'!B5:T5)) -> 20230126
A16: Price per Earnings Growth per Share (PEG) | B16: =B15/B13/100 -> 1.5705116 | C16: =C15/C13/100 -> 5.7233134 | D16: =D15/D13/100 -> -6.1703751 | E16: =E15/E13/100 -> -5.9336514 | F16: =F15/F13/100 -> 2.0088968 | G16: =G15/G13/100 -> 14.400509 | H16: =H15/H13/100 -> -5.140285 | I16: =I15/I13/100 -> -2.8511583 | ... K16: =K15/K13/100 -> -19.395488
A17: Price per Revenue Per share (PPRPS) | B17: =B3/B9 -> 21.648166 | C17: =C3/C9 -> 23.772674 | D17: =D3/D9 -> 25.857874 | E17: =E3/E9 -> 28.604187 | F17: =F3/F9 -> 23.674804 | G17: =G3/G9 -> 24.693041 | H17: =H3/H9 -> 26.148204 | I17: =I3/I9 -> 19.995827 | ... L17: =L3/L9 -> 18.127432
A18: Price per EBITDA Growth per Share | B18: =B15/B14/100 -> 1.66251 | C18: =C15/C14/100 -> 6.7591398 | D18: =D15/D14/100 -> -6.4285765 | E18: =E15/E14/100 -> -5.6652672 | F18: =F15/F14/100 -> 2.2971282 | G18: =G15/G14/100 -> 14.80457 | H18: =H15/H14/100 -> -5.3405516 | I18: =I15/I14/100 -> -2.9963298 | ... K18: =K15/K14/100 -> -133.46204 | O18: Always check the cells values to correct it after i change ticker!
A19: Price per Book Value per Share | B19: =B3/B21 -> 34.933596 | C19: =C3/C21 -> 34.235619 | D19: =D3/D21 -> 35.091358 | E19: =E3/E21 -> 43.642116 | F19: =F3/F21 -> 48.89379 | G19: =G3/G21 -> 43.929169 | H19: =H3/H21 -> 37.331627 | I19: =I3/I21 -> 28.860281 | ... L19: =L3/L21 -> 22.964985
A20: Price per Free Cash Flow per Share | B20: =B3/B61 -> 69.023263 | C20: =C3/C61 -> 109.47295 | D20: =D3/D61 -> 87.087599 | E20: =E3/E61 -> 105.78329 | F20: =F3/F61 -> 91.786287 | G20: =G3/G61 -> 106.82306 | H20: =H3/H61 -> 104.34001 | I20: =I3/I61 -> 75.828553 | ... L20: =L3/L61 -> 77.690083 | N20: Segment revenues | O20: ='Historical Prices'!$AT$1 -> LQ | P20: ='Historical Prices'!$AT$13 -> LQ-1 | Q20: ='Historical Prices'!$AT$25 -> LQ-2 | R20: ='Historical Prices'!$AT$37 -> LQ-3 | S20: ='Historical Prices'!$AT$49 -> LQ-4
A21: Book Value Per Share | B21: =('Quarterly Financials'!C63-'Quarterly Financials'!C59)/'Quarterly Financials'!C24 -> 4.7776359 | C21: =('Quarterly Financials'!D63-'Quarterly Financials'!D59)/'Quarterly Financials'!D24 -> 3.9838625 | D21: =('Quarterly Financials'!E63-'Quarterly Financials'!E59)/'Quarterly Financials'!E24 -> 3.8396918 | E21: =('Quarterly Financials'!F63-'Quarterly Financials'!F59)/'Quarterly Financials'!F24 -> 3.9372518 | F21: =('Quarterly Financials'!G63-'Quarterly Financials'!G59)/'Quarterly Financials'!G24 -> 3.5693695 | G21: =('Quarterly Financials'!H63-'Quarterly Financials'!H59)/'Quarterly Financials'!H24 -> 3.1609977 | H21: =('Quarterly Financials'!I63-'Quarterly Financials'!I59)/'Quarterly Financials'!I24 -> 3.595075 | I21: =('Quarterly Financials'!J63-'Quarterly Financials'!J59)/'Quarterly Financials'!J24 -> 4.1402924 | ... L21: =('Quarterly Financials'!M63-'Quarterly Financials'!M59)/'Quarterly Financials'!M24 -> 3.8654499 | N21: ='Historical Prices'!$AK$15 -> Mac | O21: ='Historical Prices'!$AT$3 -> 8046000000 | P21: ='Historical Prices'!$AT$15 -> 7949000000 | Q21: ='Historical Prices'!$AT$27 -> 8987000000 | R21: ='Historical Prices'!$AT$39 -> 7744000000 | S21: ='Historical Prices'!$AT$51 -> 7009000000
A22: Price to Operating Cash Flow per Share | B22: =B3/B63 -> 64.884809 | C22: =C3/C63 -> 98.509436 | D22: =D3/D63 -> 80.178033 | E22: =E3/E63 -> 94.982727 | F22: =F3/F63 -> 81.564418 | G22: =G3/G63 -> 92.260905 | H22: =H3/H63 -> 94.759254 | I22: =I3/I63 -> 69.060358 | ... L22: =L3/L63 -> 69.981476 | N22: Percentage to Revenue | O22: ='Historical Prices'!$AU$3 -> 0.085562976 | P22: ='Historical Prices'!$AU$15 -> 0.083358676 | Q22: ='Historical Prices'!$AU$27 -> 0.072300885 | R22: ='Historical Prices'!$AU$39 -> 0.081575898 | S22: ='Historical Prices'!$AU$51 -> 0.081711881
A23: Market Cap/Revenue Multiples (PS ratio) | B23: =B4/B10 -> 21.648166 | C23: =C4/C10 -> 23.772674 | D23: =D4/D10 -> 25.857874 | E23: =E4/E10 -> 28.604187 | F23: =F4/F10 -> 23.674804 | G23: =G4/G10 -> 24.693041 | H23: =H4/H10 -> 26.148204 | I23: =I4/I10 -> 19.995827 | ... L23: =L4/L10 -> 18.127432 | N23: ='Historical Prices'!$AK$16 -> Service | O23: ='Historical Prices'!$AT$4 -> 27423000000 | P23: ='Historical Prices'!$AT$16 -> 26645000000 | Q23: ='Historical Prices'!$AT$28 -> 26340000000 | R23: ='Historical Prices'!$AT$40 -> 24972000000 | S23: ='Historical Prices'!$AT$52 -> 24213000000
A24: EV/Revenue Multiples | B24: =B5/B10 -> 21.940368 | C24: =C5/C10 -> 24.326128 | D24: =D5/D10 -> 26.429998 | E24: =E5/E10 -> 29.170881 | F24: =F5/F10 -> 24.184859 | G24: =G5/G10 -> 25.489138 | H24: =H5/H10 -> 27.009593 | I24: =I5/I10 -> 20.699686 | ... L24: =L5/L10 -> 18.865391 | N24: Percentage to Revenue | O24: ='Historical Prices'!$AU$4 -> 0.29162236 | P24: ='Historical Prices'!$AU$16 -> 0.27941778 | Q24: ='Historical Prices'!$AU$28 -> 0.21190668 | R24: ='Historical Prices'!$AU$40 -> 0.26305699 | S24: ='Historical Prices'!$AU$52 -> 0.28227847
A25: EV/EBIT | B25: =B5/B41 -> 64.982029 | C25: =C5/C41 -> 80.727495 | D25: =D5/D41 -> 94.003588 | E25: =E5/E41 -> 97.692269 | F25: =F5/F41 -> 78.669286 | G25: =G5/G41 -> 92.30111 | H25: =H5/H41 -> 97.100401 | I25: =I5/I41 -> 67.167819 | ... L25: =L5/L41 -> 63.677537 | N25: ='Historical Prices'!$AK$17 -> Wearables, Home and Accessories | O25: ='Historical Prices'!$AT$5 -> 7404000000 | P25: ='Historical Prices'!$AT$17 -> 7522000000 | Q25: ='Historical Prices'!$AT$29 -> 11747000000 | R25: ='Historical Prices'!$AT$41 -> 9042000000 | S25: ='Historical Prices'!$AT$53 -> 8097000000
A26: EV/EBITDA | B26: =B5/B42 -> 60.70011 | C26: =C5/C42 -> 73.497394 | D26: =D5/D42 -> 82.990192 | E26: =E5/E42 -> 88.622811 | F26: =F5/F42 -> 72.776971 | G26: =G5/G42 -> 82.774734 | H26: =H5/H42 -> 86.576595 | I26: =I5/I42 -> 61.548602 | ... L26: =L5/L42 -> 56.988065 | N26: Percentage to Revenue | O26: ='Historical Prices'!$AU$5 -> 0.078735803 | P26: ='Historical Prices'!$AU$17 -> 0.078880861 | Q26: ='Historical Prices'!$AU$29 -> 0.094505229 | R26: ='Historical Prices'!$AU$41 -> 0.095249131 | S26: ='Historical Prices'!$AU$53 -> 0.094395934
A27: Gross Margin % | B27: =B11/B10 -> 0.45874974 | C27: =C11/C10 -> 0.45170842 | D27: =D11/D10 -> 0.44516303 | E27: =E11/E10 -> 0.44261673 | F27: =F11/F10 -> 0.42962255 | G27: =G11/G10 -> 0.42259224 | H27: =H11/H10 -> 0.43256307 | I27: =I11/I10 -> 0.43749872 | ... L27: =L11/L10 -> 0.43292728 | N27: ='Historical Prices'!$AK$18 -> iPad | O27: ='Historical Prices'!$AT$6 -> 6581000000 | P27: ='Historical Prices'!$AT$18 -> 6402000000 | Q27: ='Historical Prices'!$AT$30 -> 8088000000 | R27: ='Historical Prices'!$AT$42 -> 6950000000 | S27: ='Historical Prices'!$AT$54 -> 7162000000
A28: Net Margin % | B28: ='Quarterly Financials'!C21/B10 -> 0.28363788 | C28: ='Quarterly Financials'!D21/C10 -> 0.25649735 | D28: ='Quarterly Financials'!E21/D10 -> 0.24305292 | E28: ='Quarterly Financials'!F21/E10 -> 0.25475558 | F28: ='Quarterly Financials'!G21/F10 -> 0.25605613 | G28: ='Quarterly Financials'!H21/G10 -> 0.22986045 | H28: ='Quarterly Financials'!I21/H10 -> 0.23435673 | I28: ='Quarterly Financials'!J21/I10 -> 0.25709821 | ... L28: ='Quarterly Financials'!M21/L10 -> 0.26701378 | N28: Percentage to Revenue | O28: ='Historical Prices'!$AU$6 -> 0.069983836 | P28: ='Historical Prices'!$AU$18 -> 0.067135771 | Q28: ='Historical Prices'!$AU$30 -> 0.065068383 | R28: ='Historical Prices'!$AU$42 -> 0.07321184 | S28: ='Historical Prices'!$AU$54 -> 0.083495576
A29: FCF Margin % | B29: ='Quarterly Financials'!C99/B10 -> 0.31363579 | C29: ='Quarterly Financials'!D99/C10 -> 0.21715569 | D29: ='Quarterly Financials'!E99/D10 -> 0.29691798 | E29: ='Quarterly Financials'!F99/E10 -> 0.27040364 | F29: ='Quarterly Financials'!G99/F10 -> 0.257934 | G29: ='Quarterly Financials'!H99/G10 -> 0.23115834 | H29: ='Quarterly Financials'!I99/H10 -> 0.25060572 | I29: ='Quarterly Financials'!J99/I10 -> 0.26369786 | ... L29: ='Quarterly Financials'!M99/L10 -> 0.23333006 | N29: ='Historical Prices'!$AK$19 -> iPhone | O29: ='Historical Prices'!$AT$7 -> 44582000000 | P29: ='Historical Prices'!$AT$19 -> 46841000000 | Q29: ='Historical Prices'!$AT$31 -> 69138000000 | R29: ='Historical Prices'!$AT$43 -> 46222000000 | S29: ='Historical Prices'!$AT$55 -> 39296000000
A30: Pretax profit/EBT Margin% | B30: =B40/B10 -> 0.33763747 | C30: =C40/C10 -> 0.29014056 | D30: =D40/D10 -> 0.26895852 | E30: =E40/E10 -> 0.28879329 | F30: =F40/F10 -> 0.29886303 | G30: =G40/G10 -> 0.26697801 | H30: =H40/H10 -> 0.26949457 | I30: =I40/I10 -> 0.30107527 | ... L30: =L40/L10 -> 0.28809834 | N30: Percentage to Revenue | O30: ='Historical Prices'!$AU$7 -> 0.47409503 | P30: ='Historical Prices'!$AU$19 -> 0.49120691 | Q30: ='Historical Prices'!$AU$31 -> 0.55621883 | R30: ='Historical Prices'!$AU$43 -> 0.48690614 | S30: ='Historical Prices'!$AU$55 -> 0.45811814
A31: Operating/EBIT Margin % | B31: =B41/B10 -> 0.33763747 | C31: =C41/C10 -> 0.30133634 | D31: =D41/D10 -> 0.28115946 | E31: =E41/E10 -> 0.29859969 | F31: =F41/F10 -> 0.30742442 | G31: =G41/G10 -> 0.27615202 | H31: =H41/H10 -> 0.2781615 | I31: =I41/I10 -> 0.30817862 | ... L31: =L41/L10 -> 0.29626446 | N31: ='Historical Prices'!$AK$20 -> 0 | O31: ='Historical Prices'!$AT$8 -> 0 | P31: ='Historical Prices'!$AT$20 -> 0 | Q31: ='Historical Prices'!$AT$32 -> 0 | R31: ='Historical Prices'!$AT$44 -> 0 | S31: ='Historical Prices'!$AT$56 -> 0
A32: EBITDA Margin% | B32: =B42/B10 -> 0.36145515 | C32: =C42/C10 -> 0.33097946 | D32: =D42/D10 -> 0.31847134 | E32: =E42/E10 -> 0.3291577 | F32: =F42/F10 -> 0.33231473 | G32: =G42/G10 -> 0.3079338 | H32: =H42/H10 -> 0.31197338 | I32: =I42/I10 -> 0.33631448 | ... L32: =L42/L10 -> 0.33104109 | N32: Percentage to Revenue | O32: ='Historical Prices'!$AU$8 -> 0 | P32: ='Historical Prices'!$AU$20 -> 0 | Q32: ='Historical Prices'!$AU$32 -> 0 | R32: ='Historical Prices'!$AU$44 -> 0 | S32: ='Historical Prices'!$AU$56 -> 0
A33: Sales to Assets Ratio | B33: =B10/'Quarterly Financials'!C44 -> 0.33824686 | C33: =C10/'Quarterly Financials'!D44 -> 0.25383527 | D33: =D10/'Quarterly Financials'!E44 -> 0.24414246 | E33: =E10/'Quarterly Financials'!F44 -> 0.28551301 | F33: =F10/'Quarterly Financials'!G44 -> 0.33786594 | G33: =G10/'Quarterly Financials'!H44 -> 0.25554847 | H33: =H10/'Quarterly Financials'!I44 -> 0.24667493 | I33: =I10/'Quarterly Financials'!J44 -> 0.27741244 | ... L33: =L10/'Quarterly Financials'!M44 -> 0.2468894 | N33: ='Historical Prices'!$AK$21 -> 0 | O33: ='Historical Prices'!$AT$9 -> 0 | P33: ='Historical Prices'!$AT$21 -> 0 | Q33: ='Historical Prices'!$AT$33 -> 0 | R33: ='Historical Prices'!$AT$45 -> 0 | S33: ='Historical Prices'!$AT$57 -> 0
A34: Return on Assets (ROA) % | B34: ='Quarterly Financials'!C21/'Quarterly Financials'!C44 -> 0.095939623 | C34: ='Quarterly Financials'!D21/'Quarterly Financials'!D44 -> 0.065108074 | D34: ='Quarterly Financials'!E21/'Quarterly Financials'!E44 -> 0.059339538 | E34: ='Quarterly Financials'!F21/'Quarterly Financials'!F44 -> 0.072736031 | F34: ='Quarterly Financials'!G21/'Quarterly Financials'!G44 -> 0.086512645 | G34: ='Quarterly Financials'!H21/'Quarterly Financials'!H44 -> 0.058740486 | H34: ='Quarterly Financials'!I21/'Quarterly Financials'!I44 -> 0.057809931 | I34: ='Quarterly Financials'!J21/'Quarterly Financials'!J44 -> 0.071322242 | ... L34: ='Quarterly Financials'!M21/'Quarterly Financials'!M44 -> 0.065922872 | N34: Percentage to Revenue | O34: ='Historical Prices'!$AU$9 -> 0 | P34: ='Historical Prices'!$AU$21 -> 0 | Q34: ='Historical Prices'!$AU$33 -> 0 | R34: ='Historical Prices'!$AU$45 -> 0 | S34: ='Historical Prices'!$AU$57 -> 0
A35: Return on Equity (ROE) % | B35: ='Quarterly Financials'!C21/'Quarterly Financials'!C63 -> 0.4577058 | C35: ='Quarterly Financials'!D21/'Quarterly Financials'!D63 -> 0.36938821 | D35: ='Quarterly Financials'!E21/'Quarterly Financials'!E63 -> 0.32984371 | E35: ='Quarterly Financials'!F21/'Quarterly Financials'!F63 -> 0.38868689 | F35: ='Quarterly Financials'!G21/'Quarterly Financials'!G63 -> 0.52881344 | G35: ='Quarterly Financials'!H21/'Quarterly Financials'!H63 -> 0.40892406 | H35: ='Quarterly Financials'!I21/'Quarterly Financials'!I63 -> 0.33458964 | I35: ='Quarterly Financials'!J21/'Quarterly Financials'!J63 -> 0.37107375 | ... L35: ='Quarterly Financials'!M21/'Quarterly Financials'!M63 -> 0.33827007
A36: Return on Capital Employed (ROCE)% | B36: =B41/B83 -> 0.18389731 | C36: =C41/C83 -> 0.13011217 | D36: =D41/D83 -> 0.10947519 | E36: =E41/E83 -> 0.13352194 | F36: =F41/F83 -> 0.17194609 | G36: =G41/G83 -> 0.12523834 | H36: =H41/H83 -> 0.11178283 | I36: =I41/I83 -> 0.1343422 | ... L36: =L41/L83 -> 0.10863359 | N36: Geographic Revenues | O36: =O20 -> LQ | P36: =P20 -> LQ-1 | Q36: =Q20 -> LQ-2 | R36: =R20 -> LQ-3 | S36: =S20 -> LQ-4
A37: WACC % | B37: =B87*B92+B88*B93*(1-B60) -> 0.10860327 | C37: =C87*C92+C88*C93*(1-C60) -> 0.081192848 | D37: =D87*D92+D88*D93*(1-D60) -> 0.075570231 | E37: =E87*E92+E88*E93*(1-E60) -> 0.085895451 | F37: =F87*F92+F88*F93*(1-F60) -> 0.093218647 | G37: =G87*G92+G88*G93*(1-G60) -> 0.089396326 | H37: =H87*H92+H88*H93*(1-H60) -> 0.089721205 | I37: =I87*I92+I88*I93*(1-I60) -> 0.087436461 | ... L37: =L87*L92+L88*L93*(1-L60) -> 0.084417697 | N37: ='Historical Prices'!$AW$15 -> Americas Segment | O37: ='Historical Prices'!$AX$3 -> 41198000000 | P37: ='Historical Prices'!$AX$15 -> 40315000000 | Q37: ='Historical Prices'!$AX$27 -> 52648000000 | R37: ='Historical Prices'!$AX$39 -> 41664000000 | S37: ='Historical Prices'!$AX$51 -> 37678000000
A38: Return on Invested Capital(ROIC) % | B38: =B96/('Quarterly Financials'!C66+'Quarterly Financials'!C63) -> 0.18648293 | C38: =C96/('Quarterly Financials'!D66+'Quarterly Financials'!D63) -> 0.13144665 | D38: =D96/('Quarterly Financials'!E66+'Quarterly Financials'!E63) -> 0.11805456 | E38: =E96/('Quarterly Financials'!F66+'Quarterly Financials'!F63) -> 0.13944354 | F38: =F96/('Quarterly Financials'!G66+'Quarterly Financials'!G63) -> 0.18011442 | G38: =G96/('Quarterly Financials'!H66+'Quarterly Financials'!H63) -> 0.12195518 | H38: =H96/('Quarterly Financials'!I66+'Quarterly Financials'!I63) -> 0.10874955 | I38: =I96/('Quarterly Financials'!J66+'Quarterly Financials'!J63) -> 0.13197241 | ... L38: =L96/('Quarterly Financials'!M66+'Quarterly Financials'!M63) -> 0.11515279 | N38: Percentage to Revenue | O38: ='Historical Prices'!$AY$3 -> 0.43810881 | P38: ='Historical Prices'!$AY$15 -> 0.42277079 | Q38: ='Historical Prices'!$AY$27 -> 0.42355591 | R38: ='Historical Prices'!$AY$39 -> 0.43889182 | S38: ='Historical Prices'!$AY$51 -> 0.43925528
A39: Return on Invested Capital(ROIC) % | B39: =B96/((C97+B97)/2) -> 0.11765908 | C39: =C96/((D97+C97)/2) -> 0.078202991 | D39: =D96/((E97+D97)/2) -> 0.068197414 | E39: =E96/((F97+E97)/2) -> 0.080687319 | F39: =F96/((G97+F97)/2) -> 0.10000699 | G39: =G96/((H97+G97)/2) -> 0.067963358 | H39: =H96/((I97+H97)/2) -> 0.063099599 | I39: =I96/((J97+I97)/2) -> 0.081270908 | ... K39: =K96/((L97+K97)/2) -> 0.073767179 | N39: ='Historical Prices'!$AW$16 -> Europe Segment | O39: ='Historical Prices'!$AX$4 -> 24014000000 | P39: ='Historical Prices'!$AX$16 -> 24454000000 | Q39: ='Historical Prices'!$AX$28 -> 33861000000 | R39: ='Historical Prices'!$AX$40 -> 24924000000 | S39: ='Historical Prices'!$AX$52 -> 21884000000
A40: EBT | B40: =B41-'Quarterly Financials'!C15 -> 40373000000 | C40: =C41-'Quarterly Financials'!D15 -> 25967000000 | D40: =D41-'Quarterly Financials'!E15 -> 22000000000 | E40: =E41-'Quarterly Financials'!F15 -> 27388000000 | F40: =F41-'Quarterly Financials'!G15 -> 35013000000 | G40: =G41-'Quarterly Financials'!H15 -> 24067000000 | H40: =H41-'Quarterly Financials'!I15 -> 22357000000 | I40: =I41-'Quarterly Financials'!J15 -> 29288000000 | ... L40: =L41-'Quarterly Financials'!M15 -> 23461000000 | N40: Percentage to Revenue | O40: ='Historical Prices'!$AY$4 -> 0.25537028 | P40: ='Historical Prices'!$AY$16 -> 0.25644145 | Q40: ='Historical Prices'!$AY$28 -> 0.27241352 | R40: ='Historical Prices'!$AY$40 -> 0.26255135 | S40: ='Historical Prices'!$AY$52 -> 0.25512667
...

Sheet Yearly Financials
A1: =A2&": Yearly" -> AAPL: Yearly | C1: After January change 2021 to 2022, 2020 to 2021, etc. etc. Because most companies report on January, and until then 2022 date is not valid.
A2: ='YoY Ratios'!$A$1 -> AAPL | C2: TTM | D2: 2023 | E2: =D2-1 -> 2022 | F2: =E2-1 -> 2021 | G2: =F2-1 -> 2020 | H2: =G2-1 -> 2019 | I2: =H2-1 -> 2018 | J2: =I2-1 -> 2017 | K2: =J2-1 -> 2016 | L2: =K2-1 -> 2015 | ... O2: =N2-1 -> 2012
A3: Income Statement
A4: Revenue | C4: {=_xldudf_WISE($A$2,A4:A25,$C$2:$O$2)} -> 385706000000 | D4: 383285000000 | E4: 394328000000 | F4: 365817000000 | G4: 274515000000 | H4: 260174000000 | I4: 265595000000 | J4: 229234000000 | K4: 215639000000 | L4: 233715000000 | M4: 182795000000 | N4: 170910000000 | O4: 156508000000
A5: Cost Of Revenue | C5: 212035000000 | D5: 214137000000 | E5: 223546000000 | F5: 212981000000 | G5: 169559000000 | H5: 161782000000 | I5: 163756000000 | J5: 141048000000 | K5: 131376000000 | L5: 140089000000 | M5: 112258000000 | N5: 106606000000 | O5: 87846000000
A6: Gross Profit | C6: 173671000000 | D6: 169148000000 | E6: 170782000000 | F6: 152836000000 | G6: 104956000000 | H6: 98392000000 | I6: 101839000000 | J6: 88186000000 | K6: 84263000000 | L6: 93626000000 | M6: 70537000000 | N6: 64304000000 | O6: 68662000000
A7: Research And Development Expenses | C7: 29902000000 | D7: 29915000000 | E7: 26251000000 | F7: 21914000000 | G7: 18752000000 | H7: 16217000000 | I7: 14236000000 | J7: 11581000000 | K7: 10045000000 | L7: 8067000000 | M7: 6041000000 | N7: 4475000000 | O7: 3381000000
A8: Selling General And Administrative Expenses | C8: 25111000000 | D8: 24932000000 | E8: 25094000000 | F8: 21973000000 | G8: 19916000000 | H8: 18245000000 | I8: 16705000000 | J8: 15261000000 | K8: 14194000000 | L8: 14329000000 | M8: 11993000000 | N8: 10830000000 | O8: 10040000000
A9: General And Administrative Expenses | C9: 0 | D9: 0 | E9: 0 | F9: 0 | G9: 0 | H9: 0 | I9: 0 | J9: 0 | K9: 0 | L9: 0 | M9: 0 | N9: 0 | O9: 0
A10: Selling And Marketing Expenses | C10: 0 | D10: 0 | E10: 0 | F10: 0 | G10: 0 | H10: 0 | I10: 0 | J10: 0 | K10: 0 | L10: 0 | M10: 0 | N10: 0 | O10: 0
A11: Other Expenses | C11: -222000000 | D11: -565000000 | E11: -334000000 | F11: 258000000 | G11: 803000000 | H11: 1807000000 | I11: 2005000000 | J11: 2745000000 | K11: 1348000000 | L11: 1285000000 | M11: -431000000 | N11: 1156000000 | O11: 522000000
A12: Operating Expenses | C12: 55013000000 | D12: 54847000000 | E12: 51345000000 | F12: 43887000000 | G12: 38668000000 | H12: 34462000000 | I12: 30941000000 | J12: 26842000000 | K12: 24239000000 | L12: 22396000000 | M12: 18034000000 | N12: 15305000000 | O12: 13421000000
A13: Cost And Expenses | C13: 267048000000 | D13: 268984000000 | E13: 274891000000 | F13: 256868000000 | G13: 208227000000 | H13: 196244000000 | I13: 194697000000 | J13: 167890000000 | K13: 155615000000 | L13: 162485000000 | M13: 130292000000 | N13: 121911000000 | O13: 101267000000
A14: Ebitda | C14: 130109000000 | D14: 125820000000 | E14: 130541000000 | F14: 120233000000 | G14: 77344000000 | H14: 76477000000 | I14: 81801000000 | J14: 71501000000 | K14: 70529000000 | L14: 82487000000 | M14: 61813000000 | N14: 55756000000 | O14: 58518000000
A15: Interest Expense | C15: 2930000000 | D15: 3933000000 | E15: 2931000000 | F15: 2645000000 | G15: 2873000000 | H15: 3576000000 | I15: 3240000000 | J15: 2323000000 | K15: 1456000000 | L15: 733000000 | M15: 384000000 | N15: 136000000 | O15: -522000000
A16: Depreciation And Amortization | C16: 11451000000 | D16: 11519000000 | E16: 11104000000 | F16: 11284000000 | G16: 11056000000 | H16: 12547000000 | I16: 10903000000 | J16: 10157000000 | K16: 10505000000 | L16: 11257000000 | M16: 7946000000 | N16: 6757000000 | O16: 3277000000
... A25: Weighted Average Shs Out Dil | C25: 15576641000 | D25: 15812547000 | E25: 16325819000 | F25: 16864919000 | G25: 17528214000 | H25: 18595652000 | I25: 20000436000 | J25: 21006768000 | K25: 22001124000 | L25: 23172276000 | M25: 24490652000 | N25: 26086536000 | O25: 26469940000
A27: Balance Sheet
A28: Cash And Cash Equivalents | C28: {=_xldudf_WISE($A$2,A28:A67,$C$2:$O$2)} -> 40760000000 | D28: 29965000000 | E28: 23646000000 | F28: 34940000000 | G28: 38016000000 | H28: 48844000000 | I28: 25913000000 | J28: 20289000000 | K28: 20484000000 | L28: 21120000000 | M28: 13844000000 | N28: 14259000000 | O28: 10746000000
A29: Short Term Investments | C29: 32340000000 | D29: 31590000000 | E29: 24658000000 | F29: 27699000000 | G29: 52927000000 | H29: 51713000000 | I29: 40388000000 | J29: 53892000000 | K29: 46671000000 | L29: 20481000000 | M29: 11233000000 | N29: 26287000000 | O29: 18383000000
A30: Cash And Short Term Investments | C30: 73100000000 | D30: 61555000000 | E30: 48304000000 | F30: 62639000000 | G30: 90943000000 | H30: 100557000000 | I30: 66301000000 | J30: 74181000000 | K30: 67155000000 | L30: 41601000000 | M30: 25077000000 | N30: 40546000000 | O30: 29129000000
A31: Net Receivables | C31: 50102000000 | D31: 60985000000 | E31: 60932000000 | F31: 51506000000 | G31: 37445000000 | H31: 45804000000 | I31: 48995000000 | J31: 35673000000 | K31: 29299000000 | L31: 30343000000 | M31: 27219000000 | N31: 20641000000 | O31: 18692000000
A32: Inventory | C32: 6511000000 | D32: 6331000000 | E32: 4946000000 | F32: 6580000000 | G32: 4061000000 | H32: 4106000000 | I32: 3956000000 | J32: 4855000000 | K32: 2132000000 | L32: 2349000000 | M32: 2111000000 | N32: 1764000000 | O32: 791000000
A33: Other Current Assets | C33: 13979000000 | D33: 14695000000 | E33: 21223000000 | F33: 14111000000 | G33: 11264000000 | H33: 12352000000 | I33: 12087000000 | J33: 13936000000 | K33: 8283000000 | L33: 9539000000 | M33: 9806000000 | N33: 6882000000 | O33: 6458000000
A34: Total Current Assets | C34: 143692000000 | D34: 143566000000 | E34: 135405000000 | F34: 134836000000 | G34: 143713000000 | H34: 162819000000 | I34: 131339000000 | J34: 128645000000 | K34: 106869000000 | L34: 89378000000 | M34: 68531000000 | N34: 73286000000 | O34: 57653000000
A35: Property Plant Equipment Net | C35: 43666000000 | D35: 43715000000 | E35: 42117000000 | F35: 39440000000 | G35: 36766000000 | H35: 37378000000 | I35: 41304000000 | J35: 33783000000 | K35: 27010000000 | L35: 22471000000 | M35: 20624000000 | N35: 16597000000 | O35: 15452000000
A36: Goodwill | C36: 0 | D36: 0 | E36: 0 | F36: 0 | G36: 0 | H36: 0 | I36: 0 | J36: 5717000000 | K36: 5414000000 | L36: 5116000000 | M36: 4616000000 | N36: 1577000000 | O36: 1135000000
A37: Intangible Assets | C37: 0 | D37: 0 | E37: 0 | F37: 0 | G37: 0 | H37: 0 | I37: 0 | J37: 2298000000 | K37: 3206000000 | L37: 3893000000 | M37: 4142000000 | N37: 4179000000 | O37: 4224000000
A38: Goodwill And Intangible Assets | C38: 0 | D38: -17852000000 | E38: -15375000000 | F38: 0 | G38: 0 | H38: 0 | I38: 0 | J38: 8015000000 | K38: 8620000000 | L38: 9009000000 | M38: 8758000000 | N38: 5756000000 | O38: 5359000000
A39: Long Term Investments | C39: 99475000000 | D39: 100544000000 | E39: 120805000000 | F39: 127877000000 | G39: 100887000000 | H39: 105341000000 | I39: 170799000000 | J39: 194714000000 | K39: 170430000000 | L39: 164065000000 | M39: 130162000000 | N39: 106215000000 | O39: 92122000000
A40: Tax Assets | C40: 0 | D40: 17852000000 | E40: 15375000000 | F40: 0 | G40: 0 | H40: 0 | I40: 0 | J40: 0 | K40: 0 | L40: 5546000000 | M40: 4318000000 | N40: 3453000000 | O40: 2583000000
... A67: Net Debt | C67: 67280000000 | D67: 81123000000 | E67: 96423000000 | F67: 89779000000 | G67: 74420000000 | H67: 59203000000 | I67: 88570000000 | J67: 95391000000 | K67: 66548000000 | L67: 43342000000 | M67: 21451000000 | N67: 2701000000 | O67: -10746000000
A69: Cash Flow
A70: Net Income | C70: {=_xldudf_WISE($A$2,A70:A99,$C$2:$O$2)} -> 100913000000 | D70: 96995000000 | E70: 99803000000 | F70: 94680000000 | G70: 57411000000 | H70: 55256000000 | I70: 59531000000 | J70: 48351000000 | K70: 45687000000 | L70: 53394000000 | M70: 39510000000 | N70: 37037000000 | O70: 41733000000
A71: Depreciation And Amortization | C71: 11451000000 | D71: 11519000000 | E71: 11104000000 | F71: 11284000000 | G71: 11056000000 | H71: 12547000000 | I71: 10903000000 | J71: 10157000000 | K71: 10505000000 | L71: 11257000000 | M71: 7946000000 | N71: 6757000000 | O71: 3277000000
A72: Deferred Income Tax | C72: -1876000000 | D72: 5195000000 | E72: 895000000 | F72: -4774000000 | G72: -215000000 | H72: -340000000 | I72: -32590000000 | J72: 5966000000 | K72: 4938000000 | L72: 1382000000 | M72: 2347000000 | N72: 1141000000 | O72: 4405000000
A73: Stock Based Compensation | C73: 10925000000 | D73: 10833000000 | E73: 9038000000 | F73: 7906000000 | G73: 6829000000 | H73: 6068000000 | I73: 5340000000 | J73: 4840000000 | K73: 4210000000 | L73: 3586000000 | M73: 2863000000 | N73: 2253000000 | O73: 1740000000
A74: Change In Working Capital | C74: -5962000000 | D74: -6577000000 | E74: 1200000000 | F74: -4911000000 | G74: 5690000000 | H74: -3488000000 | I74: 34694000000 | J74: -5550000000 | K74: 484000000 | L74: 11647000000 | M74: 7047000000 | N74: 6478000000 | O74: -299000000
A75: Accounts Receivables | C75: 592000000 | D75: -1688000000 | E75: -1823000000 | F75: -10125000000 | G75: 6917000000 | H75: 245000000 | I75: -5322000000 | J75: -2093000000 | K75: 1095000000 | L75: 611000000 | M75: -4232000000 | N75: -2172000000 | O75: -5551000000
A76: Inventory | C76: 6511000000 | D76: 6331000000 | E76: 4946000000 | F76: 6580000000 | G76: 4061000000 | H76: 4106000000 | I76: 3956000000 | J76: 4855000000 | K76: 2132000000 | L76: 2349000000 | M76: 2111000000 | N76: 1764000000 | O76: 791000000
...

Sheet Quarterly Financials
A1: =A2&": Quarterly" -> AAPL: Quarterly
A2: ='YoY Ratios'!A1 -> AAPL | C2: LQ | D2: LQ-1 | E2: LQ-2 | F2: LQ-3 | G2: LQ-4 | H2: LQ-5 | I2: LQ-6 | J2: LQ-7 | K2: LQ-8 | L2: LQ-9 | M2: LQ-10
A3: Income Statement
A4: Revenue | C4: {=_xldudf_WISE($A$2,A4:A25,$C$2:$M$2)} -> 119575000000 | D4: 89498000000 | E4: 81797000000 | F4: 94836000000 | G4: 117154000000 | H4: 90146000000 | I4: 82959000000 | J4: 97278000000 | K4: 123945000000 | L4: 83360000000 | M4: 81434000000
A5: Cost Of Revenue | C5: 64720000000 | D5: 49071000000 | E5: 45384000000 | F5: 52860000000 | G5: 66822000000 | H5: 52051000000 | I5: 47074000000 | J5: 54719000000 | K5: 69702000000 | L5: 48186000000 | M5: 46179000000
A6: Gross Profit | C6: 54855000000 | D6: 40427000000 | E6: 36413000000 | F6: 41976000000 | G6: 50332000000 | H6: 38095000000 | I6: 35885000000 | J6: 42559000000 | K6: 54243000000 | L6: 35174000000 | M6: 35255000000
A7: Research And Development Expenses | C7: 7696000000 | D7: 7307000000 | E7: 7442000000 | F7: 7457000000 | G7: 7709000000 | H7: 6761000000 | I7: 6797000000 | J7: 6387000000 | K7: 6306000000 | L7: 5772000000 | M7: 5717000000
A8: Selling General And Administrative Expenses | C8: 6786000000 | D8: 6151000000 | E8: 5973000000 | F8: 6201000000 | G8: 6607000000 | H8: 6440000000 | I8: 6012000000 | J8: 6193000000 | K8: 6449000000 | L8: 5616000000 | M8: 5412000000
A9: General And Administrative Expenses | C9: 0 | D9: 0 | E9: 0 | F9: 0 | G9: 0 | H9: 0 | I9: 0 | J9: 0 | K9: 0 | L9: 0 | M9: 0
A10: Selling And Marketing Expenses | C10: 0 | D10: 0 | E10: 0 | F10: 0 | G10: 0 | H10: 0 | I10: 0 | J10: 0 | K10: 0 | L10: 0 | M10: 0
A11: Other Expenses | C11: -50000000 | D11: 29000000 | E11: -265000000 | F11: 64000000 | G11: -393000000 | H11: -237000000 | I11: -10000000 | J11: 160000000 | K11: -247000000 | L11: -538000000 | M11: 243000000
A12: Operating Expenses | C12: 14482000000 | D12: 13458000000 | E12: 13415000000 | F12: 13658000000 | G12: 14316000000 | H12: 13201000000 | I12: 12809000000 | J12: 12580000000 | K12: 12755000000 | L12: 11388000000 | M12: 11129000000
A13: Cost And Expenses | C13: 79202000000 | D13: 62529000000 | E13: 58799000000 | F13: 66518000000 | G13: 81138000000 | H13: 65252000000 | I13: 59883000000 | J13: 67299000000 | K13: 82457000000 | L13: 59574000000 | M13: 57308000000
A14: Ebitda | C14: 43221000000 | D14: 29622000000 | E14: 26050000000 | F14: 31216000000 | G14: 38932000000 | H14: 27759000000 | I14: 25881000000 | J14: 32716000000 | K14: 44185000000 | L14: 26775000000 | M14: 26958000000
A15: Interest Expense | C15: 0 | D15: 1002000000 | E15: 998000000 | F15: 930000000 | G15: 1003000000 | H15: 827000000 | I15: 719000000 | J15: 691000000 | K15: 694000000 | L15: 672000000 | M15: 665000000
A16: Depreciation And Amortization | C16: 2848000000 | D16: 2653000000 | E16: 3052000000 | F16: 2898000000 | G16: 2916000000 | H16: 2865000000 | I16: 2805000000 | J16: 2737000000 | K16: 2697000000 | L16: 2989000000 | M16: 2832000000
... A25: Weighted Average Shs Out Dil | C25: 15576641000 | D25: 15672400000 | E25: 15775021000 | F25: 15847050000 | G25: 15955718000 | H25: 16118465000 | I25: 16262203000 | J25: 16403316000 | K25: 16519291000 | L25: 16635097000 | M25: 16781735000
A27: Balance Sheet
A28: Cash And Cash Equivalents | C28: {=_xldudf_WISE($A$2,A28:A67,$C$2:$M$2)} -> 40760000000 | D28: 29965000000 | E28: 28408000000 | F28: 24687000000 | G28: 20535000000 | H28: 23646000000 | I28: 27502000000 | J28: 28098000000 | K28: 37119000000 | L28: 34940000000 | M28: 34050000000
A29: Short Term Investments | C29: 32340000000 | D29: 31590000000 | E29: 34074000000 | F29: 31185000000 | G29: 30820000000 | H29: 24658000000 | I29: 20729000000 | J29: 23413000000 | K29: 26794000000 | L29: 27699000000 | M29: 27646000000
A30: Cash And Short Term Investments | C30: 73100000000 | D30: 61555000000 | E30: 62482000000 | F30: 55872000000 | G30: 51355000000 | H30: 48304000000 | I30: 48231000000 | J30: 51511000000 | K30: 63913000000 | L30: 62639000000 | M30: 61696000000
A31: Net Receivables | C31: 50102000000 | D31: 60985000000 | E31: 39186000000 | F31: 35899000000 | G31: 54180000000 | H31: 60932000000 | I31: 42242000000 | J31: 45400000000 | K31: 65253000000 | L31: 51506000000 | M31: 33908000000
A32: Inventory | C32: 6511000000 | D32: 6331000000 | E32: 7351000000 | F32: 7482000000 | G32: 6820000000 | H32: 4946000000 | I32: 5433000000 | J32: 5460000000 | K32: 5876000000 | L32: 6580000000 | M32: 5178000000
A33: Other Current Assets | C33: 13979000000 | D33: 14695000000 | E33: 13640000000 | F33: 13660000000 | G33: 16422000000 | H33: 21223000000 | I33: 16386000000 | J33: 15809000000 | K33: 18112000000 | L33: 14111000000 | M33: 13641000000
